BEGIN:VCALENDAR
VERSION:2.0
PRODID:-//UVAGO - ECPv5.3.1.1//NONSGML v1.0//EN
CALSCALE:GREGORIAN
METHOD:PUBLISH
X-WR-CALNAME:UVAGO
X-ORIGINAL-URL:https://uvago.org
X-WR-CALDESC:Events for UVAGO
BEGIN:VTIMEZONE
TZID:America/Denver
BEGIN:DAYLIGHT
TZOFFSETFROM:-0700
TZOFFSETTO:-0600
TZNAME:MDT
DTSTART:20180311T090000
END:DAYLIGHT
BEGIN:STANDARD
TZOFFSETFROM:-0600
TZOFFSETTO:-0700
TZNAME:MST
DTSTART:20181104T080000
END:STANDARD
END:VTIMEZONE
BEGIN:VEVENT
DTSTART;TZID=America/Denver:20181115T083000
DTEND;TZID=America/Denver:20181115T100000
DTSTAMP:20260422T144859
CREATED:20181114T052406Z
LAST-MODIFIED:20181114T185537Z
UID:5093-1542270600-1542276000@uvago.org
SUMMARY:KBYU-FM Tribute to Parley Belnap
DESCRIPTION:KBYU\, 89.1 FM\, will broadcast a short tribute to Parley Belnap Thursday morning\, November 15\, around 9:00 a.m. The station couldn’t give an exact time\, but it should be slightly before or after 9:00. They will read a short statement and then play a recording of him playing “Benedictus” by Reger. You can also listen online at http://www.classical89.org/streaming/ \nPlease tune in! \n 
URL:https://uvago.org/event/kbyu-fm-tribute-to-parley-belnap/
LOCATION:KBYU-FM\, Provo\, UT\, United States
CATEGORIES:Community Events & Recitals
END:VEVENT
END:VCALENDAR