BEGIN:VCALENDAR
VERSION:2.0
PRODID:-//UVAGO - ECPv5.3.1.1//NONSGML v1.0//EN
CALSCALE:GREGORIAN
METHOD:PUBLISH
X-WR-CALNAME:UVAGO
X-ORIGINAL-URL:https://uvago.org
X-WR-CALDESC:Events for UVAGO
BEGIN:VTIMEZONE
TZID:America/Denver
BEGIN:DAYLIGHT
TZOFFSETFROM:-0700
TZOFFSETTO:-0600
TZNAME:MDT
DTSTART:20150308T090000
END:DAYLIGHT
BEGIN:STANDARD
TZOFFSETFROM:-0600
TZOFFSETTO:-0700
TZNAME:MST
DTSTART:20151101T080000
END:STANDARD
END:VTIMEZONE
BEGIN:VEVENT
DTSTART;TZID=America/Denver:20151210T203000
DTEND;TZID=America/Denver:20151210T213000
DTSTAMP:20260423T050053
CREATED:20151204T194458Z
LAST-MODIFIED:20151204T194458Z
UID:3888-1449779400-1449783000@uvago.org
SUMMARY:Krissa Hendricks Organ Recital
DESCRIPTION:Krissa Hendricks\, student of Don Cook\,  Thursday\, December 10th at 8:30 p.m.\, at the Multi-Stake Building on 9th East\, Provo
URL:https://uvago.org/event/krissa-hendricks-organ-recital/
LOCATION:Multi-Stake Center Building\, 900 E 350 N\, Provo\, UT
CATEGORIES:Student Recitals
END:VEVENT
END:VCALENDAR