BEGIN:VCALENDAR
VERSION:2.0
PRODID:-//UVAGO - ECPv5.3.1.1//NONSGML v1.0//EN
CALSCALE:GREGORIAN
METHOD:PUBLISH
X-WR-CALNAME:UVAGO
X-ORIGINAL-URL:https://uvago.org
X-WR-CALDESC:Events for UVAGO
BEGIN:VTIMEZONE
TZID:America/Denver
BEGIN:DAYLIGHT
TZOFFSETFROM:-0700
TZOFFSETTO:-0600
TZNAME:MDT
DTSTART:20160313T090000
END:DAYLIGHT
BEGIN:STANDARD
TZOFFSETFROM:-0600
TZOFFSETTO:-0700
TZNAME:MST
DTSTART:20161106T080000
END:STANDARD
END:VTIMEZONE
BEGIN:VEVENT
DTSTART;TZID=America/Denver:20160423T193000
DTEND;TZID=America/Denver:20160423T210000
DTSTAMP:20260423T084236
CREATED:20160408T220201Z
LAST-MODIFIED:20160408T220201Z
UID:3997-1461439800-1461445200@uvago.org
SUMMARY:Kymberly Stone graduate organ recital
DESCRIPTION:Kymberly Stone will have her graduate organ recital Saturday\, April 23\, at 7:30 PM in the Tabernacle\, SLC. That’s the same day as our Super Saturday event at BYU\, so make it a Super Duper Saturday and attend both!\n\nKymberly will also be performing as a guest organist for the following noon recitals at the Tabernacle: Thursday\, April 14 & Wednesday\, April 20.
URL:https://uvago.org/event/kymberly-stone-graduate-organ-recital/
LOCATION:Salt Lake Tabernacle\, Temple Square\, Salt Lake City\, UT
CATEGORIES:Student Recitals
ATTACH;FMTTYPE=image/jpeg:https://uvago.org/wordpress/wp-content/uploads/2014/08/Kymberly-Stone.jpg
END:VEVENT
END:VCALENDAR