BEGIN:VCALENDAR
VERSION:2.0
PRODID:-//UVAGO - ECPv5.3.1.1//NONSGML v1.0//EN
CALSCALE:GREGORIAN
METHOD:PUBLISH
X-WR-CALNAME:UVAGO
X-ORIGINAL-URL:https://uvago.org
X-WR-CALDESC:Events for UVAGO
BEGIN:VTIMEZONE
TZID:America/Denver
BEGIN:DAYLIGHT
TZOFFSETFROM:-0700
TZOFFSETTO:-0600
TZNAME:MDT
DTSTART:20150308T090000
END:DAYLIGHT
BEGIN:STANDARD
TZOFFSETFROM:-0600
TZOFFSETTO:-0700
TZNAME:MST
DTSTART:20151101T080000
END:STANDARD
END:VTIMEZONE
BEGIN:VEVENT
DTSTART;TZID=America/Denver:20150320T180000
DTEND;TZID=America/Denver:20150320T180000
DTSTAMP:20260423T072727
CREATED:20150305T030926Z
LAST-MODIFIED:20150305T030926Z
UID:3398-1426874400-1426874400@uvago.org
SUMMARY:Kyrsten Anderson\, student organ recital
DESCRIPTION:Kyrsten Anderson\, student organ recital\, Multi-Stake Center Building\, 900 E 350 N\, Provo\, 6:00 pm
URL:https://uvago.org/event/kyrsten-anderson-student-organ-recital/
LOCATION:Multi-Stake Center Building\, 900 E 350 N\, Provo\, UT
CATEGORIES:Student Recitals
END:VEVENT
END:VCALENDAR