BEGIN:VCALENDAR
VERSION:2.0
PRODID:-//UVAGO - ECPv5.3.1.1//NONSGML v1.0//EN
CALSCALE:GREGORIAN
METHOD:PUBLISH
X-WR-CALNAME:UVAGO
X-ORIGINAL-URL:https://uvago.org
X-WR-CALDESC:Events for UVAGO
BEGIN:VTIMEZONE
TZID:America/Denver
BEGIN:DAYLIGHT
TZOFFSETFROM:-0700
TZOFFSETTO:-0600
TZNAME:MDT
DTSTART:20170312T090000
END:DAYLIGHT
BEGIN:STANDARD
TZOFFSETFROM:-0600
TZOFFSETTO:-0700
TZNAME:MST
DTSTART:20171105T080000
END:STANDARD
END:VTIMEZONE
BEGIN:VEVENT
DTSTART;TZID=America/Denver:20170915T190000
DTEND;TZID=America/Denver:20170915T210000
DTSTAMP:20260422T204908
CREATED:20170915T100725Z
LAST-MODIFIED:20170915T100725Z
UID:4665-1505502000-1505509200@uvago.org
SUMMARY:Lella Pomeroy\, Listener Friendly Recital
DESCRIPTION:Lella Pomeroy will perform the first in a series of “Do I have one more in me Recitals”…no Church music\, but listener friendly from the Baroque to the Modern for the non-organist on Friday\, September 15th at 7 pm at the LDS Chapel at 2557 Dalton Drive in Springville. \nLella has a BA and MM in organ performance from U. of CA. Santa Barbara where she studied with Jim Welch.  Colleague of the AGO\, plus past Dean of the Santa Barbara and Utah Valley Chapters AGO.  Part of the teaching staff for UVAGO Super Saturday and the August BYU Organ Workshop since 1993. She also teach privately as well as doing Stake Organ Workshops
URL:https://uvago.org/event/lella-pomeroy-listener-friendly-recital/
LOCATION:LDS chapel\, 2557 Dalton Drive\, Springville\, UT 
CATEGORIES:Community Events & Recitals
ATTACH;FMTTYPE=image/jpeg:https://uvago.org/wordpress/wp-content/uploads/2017/09/Lella-Pomeroy.jpg
END:VEVENT
END:VCALENDAR