BEGIN:VCALENDAR
VERSION:2.0
PRODID:-//UVAGO - ECPv5.3.1.1//NONSGML v1.0//EN
CALSCALE:GREGORIAN
METHOD:PUBLISH
X-WR-CALNAME:UVAGO
X-ORIGINAL-URL:https://uvago.org
X-WR-CALDESC:Events for UVAGO
BEGIN:VTIMEZONE
TZID:America/Denver
BEGIN:DAYLIGHT
TZOFFSETFROM:-0700
TZOFFSETTO:-0600
TZNAME:MDT
DTSTART:20150308T090000
END:DAYLIGHT
BEGIN:STANDARD
TZOFFSETFROM:-0600
TZOFFSETTO:-0700
TZNAME:MST
DTSTART:20151101T080000
END:STANDARD
END:VTIMEZONE
BEGIN:VEVENT
DTSTART;TZID=America/Denver:20151211T193000
DTEND;TZID=America/Denver:20151211T203000
DTSTAMP:20260423T050612
CREATED:20151204T194858Z
LAST-MODIFIED:20151204T194858Z
UID:3889-1449862200-1449865800@uvago.org
SUMMARY:Levente Medvecsky and Andrew Fellows Organ Recital
DESCRIPTION:Levente Medvecsky and Andrew Fellows\, Friday\, December 11th\, at 7:30 p.m.\, at the Multi-Stake Building on 9th East\, Provo
URL:https://uvago.org/event/levente-medvecsky-and-andrew-fellows-organ-recital/
LOCATION:Multi-Stake Center Building\, 900 E 350 N\, Provo\, UT
CATEGORIES:Student Recitals
END:VEVENT
END:VCALENDAR