BEGIN:VCALENDAR
VERSION:2.0
PRODID:-//UVAGO - ECPv5.3.1.1//NONSGML v1.0//EN
CALSCALE:GREGORIAN
METHOD:PUBLISH
X-WR-CALNAME:UVAGO
X-ORIGINAL-URL:https://uvago.org
X-WR-CALDESC:Events for UVAGO
BEGIN:VTIMEZONE
TZID:America/Denver
BEGIN:DAYLIGHT
TZOFFSETFROM:-0700
TZOFFSETTO:-0600
TZNAME:MDT
DTSTART:20150308T090000
END:DAYLIGHT
BEGIN:STANDARD
TZOFFSETFROM:-0600
TZOFFSETTO:-0700
TZNAME:MST
DTSTART:20151101T080000
END:STANDARD
END:VTIMEZONE
BEGIN:VEVENT
DTSTART;TZID=America/Denver:20150312T193000
DTEND;TZID=America/Denver:20150312T193000
DTSTAMP:20260423T091431
CREATED:20150305T030400Z
LAST-MODIFIED:20150305T030400Z
UID:3396-1426188600-1426188600@uvago.org
SUMMARY:Levente Medveozky\, sophomore organ recital
DESCRIPTION:Levente Medveozky\, sophomore organ recital\, also featuring the BYU Baroque Ensemble\, De Jong Concert Hall\, Harris Fine Arts Center\, BYU\, 7:30 pm
URL:https://uvago.org/event/levente-medveozky-sophomore-organ-recital/
LOCATION:DeJong Concert Hall\, HFAC\, BYU\, Provo\, UT
CATEGORIES:Student Recitals
END:VEVENT
END:VCALENDAR