BEGIN:VCALENDAR
VERSION:2.0
PRODID:-//UVAGO - ECPv5.3.1.1//NONSGML v1.0//EN
CALSCALE:GREGORIAN
METHOD:PUBLISH
X-WR-CALNAME:UVAGO
X-ORIGINAL-URL:https://uvago.org
X-WR-CALDESC:Events for UVAGO
BEGIN:VTIMEZONE
TZID:America/Denver
BEGIN:DAYLIGHT
TZOFFSETFROM:-0700
TZOFFSETTO:-0600
TZNAME:MDT
DTSTART:20150308T090000
END:DAYLIGHT
BEGIN:STANDARD
TZOFFSETFROM:-0600
TZOFFSETTO:-0700
TZNAME:MST
DTSTART:20151101T080000
END:STANDARD
END:VTIMEZONE
BEGIN:VEVENT
DTSTART;TZID=America/Denver:20151106T190000
DTEND;TZID=America/Denver:20151106T190000
DTSTAMP:20260423T044056
CREATED:20150827T152534Z
LAST-MODIFIED:20150905T143117Z
UID:3712-1446836400-1446836400@uvago.org
SUMMARY:Liturgy Class
DESCRIPTION:Liturgy class with Fr. Peter Van Hook \nFriday\, November 6\, at 7:00 PM \nSt Mary’s Episcopal Church\, 50 W 200 N\, Provo. Learn how the liturgy and music come together in the Catholic and Episcopal tradition. \nIt is helpful for organists to know the basics as they take jobs or substitute at Liturgical churches.
URL:https://uvago.org/event/liturgy-class/
LOCATION:St Mary’s Episcopal Church\, 50 West 200 North\,\, Provo\, UT
CATEGORIES:Chapter Activities
ATTACH;FMTTYPE=image/jpeg:https://uvago.org/wordpress/wp-content/uploads/2015/05/st-marys-provo.jpg
END:VEVENT
END:VCALENDAR