BEGIN:VCALENDAR
VERSION:2.0
PRODID:-//UVAGO - ECPv5.3.1.1//NONSGML v1.0//EN
CALSCALE:GREGORIAN
METHOD:PUBLISH
X-WR-CALNAME:UVAGO
X-ORIGINAL-URL:https://uvago.org
X-WR-CALDESC:Events for UVAGO
BEGIN:VTIMEZONE
TZID:America/Denver
BEGIN:DAYLIGHT
TZOFFSETFROM:-0700
TZOFFSETTO:-0600
TZNAME:MDT
DTSTART:20150308T090000
END:DAYLIGHT
BEGIN:STANDARD
TZOFFSETFROM:-0600
TZOFFSETTO:-0700
TZNAME:MST
DTSTART:20151101T080000
END:STANDARD
END:VTIMEZONE
BEGIN:VEVENT
DTSTART;TZID=America/Denver:20150918T190000
DTEND;TZID=America/Denver:20150918T190000
DTSTAMP:20260423T070722
CREATED:20150905T150605Z
LAST-MODIFIED:20150905T150605Z
UID:3780-1442602800-1442602800@uvago.org
SUMMARY:Lorelea Anderson Recital
DESCRIPTION:September 18 – Lorelea Anderson\, student of Ken Udy\, Alpine Tabernacle\, 110 E Main St.\, American Fork\, 7 pm
URL:https://uvago.org/event/lorelea-anderson-recital/
LOCATION:Alpine Tabernacle\, 110 E Main St\, American Fork\, UT
ATTACH;FMTTYPE=image/jpeg:https://uvago.org/wordpress/wp-content/uploads/2015/09/Alpine-Tabernacle.jpg
END:VEVENT
END:VCALENDAR