BEGIN:VCALENDAR
VERSION:2.0
PRODID:-//UVAGO - ECPv5.3.1.1//NONSGML v1.0//EN
CALSCALE:GREGORIAN
METHOD:PUBLISH
X-WR-CALNAME:UVAGO
X-ORIGINAL-URL:https://uvago.org
X-WR-CALDESC:Events for UVAGO
BEGIN:VTIMEZONE
TZID:America/Denver
BEGIN:DAYLIGHT
TZOFFSETFROM:-0700
TZOFFSETTO:-0600
TZNAME:MDT
DTSTART:20140309T090000
END:DAYLIGHT
BEGIN:STANDARD
TZOFFSETFROM:-0600
TZOFFSETTO:-0700
TZNAME:MST
DTSTART:20141102T080000
END:STANDARD
END:VTIMEZONE
BEGIN:VEVENT
DTSTART;TZID=America/Denver:20141129T190000
DTEND;TZID=America/Denver:20141129T190000
DTSTAMP:20260423T090948
CREATED:20141104T115714Z
LAST-MODIFIED:20141104T115714Z
UID:2841-1417287600-1417287600@uvago.org
SUMMARY:Messiah Sing In
DESCRIPTION:Messiah Sing In with the Mormon Tabernacle Choir and Utah Symphony\, Abravanel Hall\, Salt Lake City
URL:https://uvago.org/event/messiah-sing-in/
END:VEVENT
END:VCALENDAR