BEGIN:VCALENDAR
VERSION:2.0
PRODID:-//UVAGO - ECPv5.3.1.1//NONSGML v1.0//EN
CALSCALE:GREGORIAN
METHOD:PUBLISH
X-WR-CALNAME:UVAGO
X-ORIGINAL-URL:https://uvago.org
X-WR-CALDESC:Events for UVAGO
BEGIN:VTIMEZONE
TZID:America/Denver
BEGIN:DAYLIGHT
TZOFFSETFROM:-0700
TZOFFSETTO:-0600
TZNAME:MDT
DTSTART:20150308T090000
END:DAYLIGHT
BEGIN:STANDARD
TZOFFSETFROM:-0600
TZOFFSETTO:-0700
TZNAME:MST
DTSTART:20151101T080000
END:STANDARD
END:VTIMEZONE
BEGIN:VEVENT
DTSTART;TZID=America/Denver:20150613T193000
DTEND;TZID=America/Denver:20150613T193000
DTSTAMP:20260423T050640
CREATED:20150305T125426Z
LAST-MODIFIED:20150305T125426Z
UID:3409-1434223800-1434223800@uvago.org
SUMMARY:Nigel Potts\, organist and choirmaster of St. Stephen’s Episcopal\, NYC
DESCRIPTION:Saturday\, June 13\, 2015 at 7:30 p.m. \nNigel Potts\, organist and choirmaster of St. Stephen’s Episcopal\, New York City \nwww.nigelpotts.com \nTemple Square Performances \nSalt Lake Tabernacle \nFree admission (eight years of age and older)
URL:https://uvago.org/event/nigel-potts-organist-and-choirmaster-of-st-stephens-episcopal-nyc/
LOCATION:Temple Square Performances\, Salt Lake Tabernacle\, Salt Lake City\, UT
CATEGORIES:Community Events & Recitals
END:VEVENT
END:VCALENDAR