BEGIN:VCALENDAR
VERSION:2.0
PRODID:-//UVAGO - ECPv5.3.1.1//NONSGML v1.0//EN
CALSCALE:GREGORIAN
METHOD:PUBLISH
X-WR-CALNAME:UVAGO
X-ORIGINAL-URL:https://uvago.org
X-WR-CALDESC:Events for UVAGO
BEGIN:VTIMEZONE
TZID:America/Denver
BEGIN:DAYLIGHT
TZOFFSETFROM:-0700
TZOFFSETTO:-0600
TZNAME:MDT
DTSTART:20170312T090000
END:DAYLIGHT
BEGIN:STANDARD
TZOFFSETFROM:-0600
TZOFFSETTO:-0700
TZNAME:MST
DTSTART:20171105T080000
END:STANDARD
END:VTIMEZONE
BEGIN:VEVENT
DTSTART;TZID=America/Denver:20171103T190000
DTEND;TZID=America/Denver:20171103T210000
DTSTAMP:20260422T204407
CREATED:20171010T025446Z
LAST-MODIFIED:20171105T071128Z
UID:4731-1509735600-1509742800@uvago.org
SUMMARY:November Member Recital
DESCRIPTION:Program for the Member Recital \nWhen:  Friday\, November 3\, 7:00 PM \n\nWhere: Paul’s Chapel (Pleasant Grove East Stake Center\, 825 Loader (directions attached) \n\n\nWhat to play:  Anything goes \n\n\nContact:  If you’d like to play something\, please let Sheri Peterson know (sheri.peterson@gmail.com). She will put you on the program\, send you organ specs\, and let you know about practice times and set up. \n\n\nPleasant Grove East Stake Center\n825 Loader\, Pleasant Grove\n1) From 1-15 take Pleasant Grove Blvd off ramp (Exit 275 )\n2) Turn onto Pleasant Grove Blvd going towards the mountains\n3) Go over freeway and proceed short distance to North County Rd/or W 700 N\n4) Turn right on W 700 N (there is a Large Central Bank on the Corner)\n5) Proceed several miles on W 700 N and cross State Street which becomes 1000 S\n(Arctic Circle on the corner)\n6) Continue on 1000 S. This dead ends at Locust.\n7) Turn left on Locust and go about 1 block and turn right on 900 S\n8) Go up the hill less than a mile and turn left on Loader.\n9) Church is immediately on your right.\nNote: For those taking State Street from Orem. Go through Lindon and then turn right on 1000 S (Arctic Circle on corner)\, then continue as indicated on #6-#9. above\nThis part of Pleasant Grove boarders Lindon* NOTE: 900 S is/has been reconstructed/paved. If the road is not accessible\nby November 3\, proceed past 900 S and go @ 3 streets to Orchard\nDrive. Turn right on Orchard Drive and go up the hill to Nathanial.\nTurn right on Nathanial to the stop sign. Turn right on Loader. Go\n@ ½ block. Church is on the left.  \n\n\n\n 
URL:https://uvago.org/event/november-member-recital/
LOCATION:Pleasant Grove East Stake Center\, 825 Loader\, Pleasant Grove\, Utah 
CATEGORIES:Chapter Activities
END:VEVENT
END:VCALENDAR