BEGIN:VCALENDAR
VERSION:2.0
PRODID:-//UVAGO - ECPv5.3.1.1//NONSGML v1.0//EN
CALSCALE:GREGORIAN
METHOD:PUBLISH
X-WR-CALNAME:UVAGO
X-ORIGINAL-URL:https://uvago.org
X-WR-CALDESC:Events for UVAGO
BEGIN:VTIMEZONE
TZID:America/Denver
BEGIN:DAYLIGHT
TZOFFSETFROM:-0700
TZOFFSETTO:-0600
TZNAME:MDT
DTSTART:20150308T090000
END:DAYLIGHT
BEGIN:STANDARD
TZOFFSETFROM:-0600
TZOFFSETTO:-0700
TZNAME:MST
DTSTART:20151101T080000
END:STANDARD
END:VTIMEZONE
BEGIN:VEVENT
DTSTART;TZID=America/Denver:20150920T190000
DTEND;TZID=America/Denver:20150920T190000
DTSTAMP:20260423T045527
CREATED:20150827T133047Z
LAST-MODIFIED:20150906T005626Z
UID:3700-1442775600-1442775600@uvago.org
SUMMARY:Ogden Tabernacle Organ Concert--Festival of Hymns and Organ Music
DESCRIPTION:Celebrating the completion of the new Ogden Tabernacle Organ.\nH. Ronald Poll & Associates\, Inc. • Opus 34\, 3 Manuals\, 51Ranks \nFeaturing: \nDr. Clay Christiansen\, organist for the Mormon Tabernacle Choir\nDr. Rulon Christiansen\, Weber State University\, St. Paul’s Lutheran Church organist\nDr. Myron Patterson\, University of Utah\, Holy Family Catholic Church organist \nSunday\, September 20\, 2015 at 7:00 p.m. \n2145 Washington Blvd\, Ogden\, Utah 84401 \n*Doors open at 6:15 p.m. for ticket holders and 6:45 p.m. for standby seating \nAGO members and associates can reserve seating by calling Colleen Starley at 801-725-4517 \n• Be seated by 6:45 p.m. \n• Tabernacle has additional parking on lower level • \n  \nClick here to view flyer.\nClick here to view organ specifications.
URL:https://uvago.org/event/ogden-utah-tabernacle-organ-concert/
LOCATION:Ogden LDS Tabernacle\, 2145 Washington Blvd\, Ogden\, UT
CATEGORIES:Community Events & Recitals
ATTACH;FMTTYPE=image/jpeg:https://uvago.org/wordpress/wp-content/uploads/2015/08/Ogden-Tabernacle-organ.jpg
END:VEVENT
END:VCALENDAR