BEGIN:VCALENDAR
VERSION:2.0
PRODID:-//UVAGO - ECPv5.3.1.1//NONSGML v1.0//EN
CALSCALE:GREGORIAN
METHOD:PUBLISH
X-WR-CALNAME:UVAGO
X-ORIGINAL-URL:https://uvago.org
X-WR-CALDESC:Events for UVAGO
BEGIN:VTIMEZONE
TZID:America/Denver
BEGIN:DAYLIGHT
TZOFFSETFROM:-0700
TZOFFSETTO:-0600
TZNAME:MDT
DTSTART:20220313T090000
END:DAYLIGHT
BEGIN:STANDARD
TZOFFSETFROM:-0600
TZOFFSETTO:-0700
TZNAME:MST
DTSTART:20221106T080000
END:STANDARD
END:VTIMEZONE
BEGIN:VEVENT
DTSTART;TZID=America/Denver:20220128T190000
DTEND;TZID=America/Denver:20220128T200000
DTSTAMP:20260422T024157
CREATED:20220103T034719Z
LAST-MODIFIED:20220103T034719Z
UID:6357-1643396400-1643400000@uvago.org
SUMMARY:Open Gallery Night at the Cathedral of the Madeleine
DESCRIPTION:Open Gallery Night \nA wonderful opportunity for organ enthusiasts of every age to explore and play the Cathedral’s Eccles Memorial Organ. \nThe next Open Gallery Night will be held on Friday\, January 28 at 7:00. Registration is required and the January 28 date is currently sold out\, however we invite you to join the wait list or to register for the May 20 date. Click here for more information. \nSunday Evening Organ Recitals \nThirty-minutes free organ performances are offered at the Cathedral of the Madeleine by resident organists and visitors on selected Sunday afternoons ?at 5:30 PM from September through June. Click here to access schedule\, programs and playlist of the recordings. \nFollow & Share! \nThe Eccles Organ Festival is on Facebook\, Instagram\, YouTube\, News. Visit our website\, follow us on social media and share with your friends! Questions? Shoot us an email. \nBecome an Usher \nGet more involved with the community by volunteering as a special usher for the Eccles Organ Festival events! Contact us using the link below and join our amazing team of Organ Festival Ushers! \nBecome an Usher! \nSubscribe\, Stream Live and Replay \nAll Eccles Organ Festival performances and events are live streamed through our YouTube and most of them remain available for replay afterwards. Subscribe to the YouTube Channel of the Festival\, turn the notification bell on and enjoy the concerts! \nClick Here and Subscribe
URL:https://uvago.org/event/open-gallery-night-at-the-cathedral-of-the-madeleine/
LOCATION:Cathedral of the Madeleine\, 331 E. South Temple\, Salt Lake City\, UT\, United States
CATEGORIES:Community Events & Recitals
ATTACH;FMTTYPE=image/jpeg:https://uvago.org/wordpress/wp-content/uploads/2022/01/2022-01-28-Eccles.jpg
END:VEVENT
END:VCALENDAR