BEGIN:VCALENDAR
VERSION:2.0
PRODID:-//UVAGO - ECPv5.3.1.1//NONSGML v1.0//EN
CALSCALE:GREGORIAN
METHOD:PUBLISH
X-WR-CALNAME:UVAGO
X-ORIGINAL-URL:https://uvago.org
X-WR-CALDESC:Events for UVAGO
BEGIN:VTIMEZONE
TZID:America/Denver
BEGIN:DAYLIGHT
TZOFFSETFROM:-0700
TZOFFSETTO:-0600
TZNAME:MDT
DTSTART:20180311T090000
END:DAYLIGHT
BEGIN:STANDARD
TZOFFSETFROM:-0600
TZOFFSETTO:-0700
TZNAME:MST
DTSTART:20181104T080000
END:STANDARD
END:VTIMEZONE
BEGIN:VEVENT
DTSTART;TZID=America/Denver:20181019T183000
DTEND;TZID=America/Denver:20181019T210000
DTSTAMP:20260422T164546
CREATED:20180920T220012Z
LAST-MODIFIED:20180921T081914Z
UID:4963-1539973800-1539982800@uvago.org
SUMMARY:Opening Social: Install Chapter Officers\, UVAGO History\, France Organ Tour Report
DESCRIPTION:October 19\, 2018\n6:30 Dinner 7:00 Program\nChurch at 2445 North 650 East (Timpview Dr.)\, Provo\, Utah.  \nThe UVAGO Opening Social will include a catered dinner and program. Please RSVP for the dinner by 12 October by clicking this text. The meal is free for current UVAGO members and $12 for guests. All are welcome to the program at 7:00 pm that will include the installation of the new UVAGO board and presentations about the chapter’s history and highlights of the BYU tour of historic French organs. We look forward to seeing you at the social! \n 
URL:https://uvago.org/event/opening-social-install-chapter-officers-uvago-history-france-organ-tour-report/
LOCATION:Pleasant View Ward Building\, 2445 North 650 East (Timpview Dr.)\, Provo\, UT
CATEGORIES:Chapter Activities
ATTACH;FMTTYPE=image/jpeg:https://uvago.org/wordpress/wp-content/uploads/2018/09/2018-UVAGO-Opening-Social-2.jpg
END:VEVENT
END:VCALENDAR