BEGIN:VCALENDAR
VERSION:2.0
PRODID:-//UVAGO - ECPv5.3.1.1//NONSGML v1.0//EN
CALSCALE:GREGORIAN
METHOD:PUBLISH
X-WR-CALNAME:UVAGO
X-ORIGINAL-URL:https://uvago.org
X-WR-CALDESC:Events for UVAGO
BEGIN:VTIMEZONE
TZID:America/Denver
BEGIN:DAYLIGHT
TZOFFSETFROM:-0700
TZOFFSETTO:-0600
TZNAME:MDT
DTSTART:20160313T090000
END:DAYLIGHT
BEGIN:STANDARD
TZOFFSETFROM:-0600
TZOFFSETTO:-0700
TZNAME:MST
DTSTART:20161106T080000
END:STANDARD
END:VTIMEZONE
BEGIN:VEVENT
DTSTART;TZID=America/Denver:20160916T183000
DTEND;TZID=America/Denver:20160916T183000
DTSTAMP:20260423T063633
CREATED:20160905T205011Z
LAST-MODIFIED:20160916T143526Z
UID:4184-1474050600-1474050600@uvago.org
SUMMARY:Opening Social
DESCRIPTION:Lella Pomeroy will tell about her adventures behind the Iron Curtain before the Berlin Wall came down and what she learned from the experience. She and her mentor\, Jim Welch\, were part of a group of 40 organ enthusiasts who walked in the footsteps of Bach during his 300th birthday year for two-and-a-half weeks in the summer of 1985 in what was then East Germany. \nThe chapter will provide pulled pork sandwiches\, so please bring a potluck side dish\, salad\, or dessert.
URL:https://uvago.org/event/opening-social/
LOCATION:LDS Chapel\, 2557 Dalton Drive\, Springville\, Utah
CATEGORIES:Chapter Activities
END:VEVENT
END:VCALENDAR