BEGIN:VCALENDAR
VERSION:2.0
PRODID:-//UVAGO - ECPv5.3.1.1//NONSGML v1.0//EN
CALSCALE:GREGORIAN
METHOD:PUBLISH
X-WR-CALNAME:UVAGO
X-ORIGINAL-URL:https://uvago.org
X-WR-CALDESC:Events for UVAGO
BEGIN:VTIMEZONE
TZID:America/Denver
BEGIN:DAYLIGHT
TZOFFSETFROM:-0700
TZOFFSETTO:-0600
TZNAME:MDT
DTSTART:20160313T090000
END:DAYLIGHT
BEGIN:STANDARD
TZOFFSETFROM:-0600
TZOFFSETTO:-0700
TZNAME:MST
DTSTART:20161106T080000
END:STANDARD
END:VTIMEZONE
BEGIN:VEVENT
DTSTART;TZID=America/Denver:20160109T100000
DTEND;TZID=America/Denver:20160109T120000
DTSTAMP:20260423T050256
CREATED:20150828T040343Z
LAST-MODIFIED:20151108T055533Z
UID:3715-1452333600-1452340800@uvago.org
SUMMARY:Organ Crawl at First United Methodist Church
DESCRIPTION:Organ Crawl at First United Methodist Church\, 203 200 E\, Salt Lake City. \nSaturday\, January 9; 10:00 AM \nCome see\, hear\, and play the newly re-built 3-manual organ by Bigelow with David Chamberlin as guide.
URL:https://uvago.org/event/organ-crawl-at-first-united-methodist-church/
LOCATION:First United Methodist Church\, 203 South 200 East\, Salt Lake City\, UT
ATTACH;FMTTYPE=image/jpeg:https://uvago.org/wordpress/wp-content/uploads/2015/08/First-United-Methodist-Church.jpg
END:VEVENT
END:VCALENDAR