BEGIN:VCALENDAR
VERSION:2.0
PRODID:-//UVAGO - ECPv5.3.1.1//NONSGML v1.0//EN
CALSCALE:GREGORIAN
METHOD:PUBLISH
X-WR-CALNAME:UVAGO
X-ORIGINAL-URL:https://uvago.org
X-WR-CALDESC:Events for UVAGO
BEGIN:VTIMEZONE
TZID:America/Denver
BEGIN:DAYLIGHT
TZOFFSETFROM:-0700
TZOFFSETTO:-0600
TZNAME:MDT
DTSTART:20170312T090000
END:DAYLIGHT
BEGIN:STANDARD
TZOFFSETFROM:-0600
TZOFFSETTO:-0700
TZNAME:MST
DTSTART:20171105T080000
END:STANDARD
END:VTIMEZONE
BEGIN:VEVENT
DTSTART;TZID=America/Denver:20170121T090000
DTEND;TZID=America/Denver:20170121T120000
DTSTAMP:20260423T004851
CREATED:20170103T073450Z
LAST-MODIFIED:20170122T004312Z
UID:4396-1484989200-1485000000@uvago.org
SUMMARY:Organ Crawl\, Cathedral of the Madeleine - CANCELLED
DESCRIPTION:Organ Crawl\, Cathedral of the Madeleine. 9:00 AM\, 331 East South Temple\, SLC. If you would like time at the console\, please RSVP to Sheri Peterson sheri.peterson@gmail.com.
URL:https://uvago.org/event/organ-crawl-cathedral-of-the-madeleine/
LOCATION:Cathedral of the Madeleine\, 331 E. South Temple\, Salt Lake City\, UT\, United States
CATEGORIES:Chapter Activities
END:VEVENT
END:VCALENDAR