BEGIN:VCALENDAR
VERSION:2.0
PRODID:-//UVAGO - ECPv5.3.1.1//NONSGML v1.0//EN
CALSCALE:GREGORIAN
METHOD:PUBLISH
X-WR-CALNAME:UVAGO
X-ORIGINAL-URL:https://uvago.org
X-WR-CALDESC:Events for UVAGO
BEGIN:VTIMEZONE
TZID:America/Denver
BEGIN:DAYLIGHT
TZOFFSETFROM:-0700
TZOFFSETTO:-0600
TZNAME:MDT
DTSTART:20150308T090000
END:DAYLIGHT
BEGIN:STANDARD
TZOFFSETFROM:-0600
TZOFFSETTO:-0700
TZNAME:MST
DTSTART:20151101T080000
END:STANDARD
END:VTIMEZONE
BEGIN:VEVENT
DTSTART;TZID=America/Denver:20151023T200000
DTEND;TZID=America/Denver:20151023T200000
DTSTAMP:20260423T025734
CREATED:20150827T140443Z
LAST-MODIFIED:20150827T145308Z
UID:3706-1445630400-1445630400@uvago.org
SUMMARY:ORGAN FEST VIII
DESCRIPTION:CLASSICAL 89 PRESENTS “ORGAN FEST VIII” \nFEATURING ORGANISTS FROM THE SALT LAKE TABERNACLE AND CATHEDRAL OF THE MADELEINE \n  \nClassical 89 is pleased to present “Organ Fest VIII” in The Cathedral of the Madeleine on October 23. \nThe concert\, now in its eighth year\, features organists from the Salt Lake Tabernacle – Richard Elliott\, Clay Christiansen\, Andrew Unsworth\, Bonnie Goodliffe\, and Linda Margetts and the organist at The Cathedral of the Madeleine\, Gabriele Terrone. \nThe concert is free and will be presented at The Cathedral of the Madeleine at 331 E. South Temple in Salt Lake City on Friday\, October 23rd at 8:00 p.m. \nThis event is a gift to the community from Classical 89\, The Cathedral of the Madeleine\, and the organists. \nClassical 89’s Organ Fest has become a highly anticipated annual event on the Utah organ scene.  This year\, it is being held a little later than usual\, due to issues with the performers’ schedules.  We have occasionally showcased a particular composer or local organ icon; this year\, we will simply feature music that we each really enjoy playing. \nDonations in support of Classical 89’s weekly organ program\, Pipedreams (airs Sundays at 9pm)\, will be welcomed. \nInformation about “Organ Fest VII” at www.classical89.org or contact Anna Forsyth\, Event Coordinator\, at 801-615-0959 or anna.forsyth@byu.edu
URL:https://uvago.org/event/organ-fest-viii/
LOCATION:The Cathedral of the Madeleine\, 331 E. South Temple\, Salt Lake City\, UT
CATEGORIES:Community Events & Recitals
ATTACH;FMTTYPE=image/jpeg:https://uvago.org/wordpress/wp-content/uploads/2015/08/2015-10-18-23-Tabernacle-Organ-Staff-July-2014a.jpg
ORGANIZER;CN="Anna%20Forsyth":MAILTO:anna.forsyth@byu.edu
END:VEVENT
END:VCALENDAR