BEGIN:VCALENDAR
VERSION:2.0
PRODID:-//UVAGO - ECPv5.3.1.1//NONSGML v1.0//EN
CALSCALE:GREGORIAN
METHOD:PUBLISH
X-WR-CALNAME:UVAGO
X-ORIGINAL-URL:https://uvago.org
X-WR-CALDESC:Events for UVAGO
BEGIN:VTIMEZONE
TZID:America/Denver
BEGIN:DAYLIGHT
TZOFFSETFROM:-0700
TZOFFSETTO:-0600
TZNAME:MDT
DTSTART:20170312T090000
END:DAYLIGHT
BEGIN:STANDARD
TZOFFSETFROM:-0600
TZOFFSETTO:-0700
TZNAME:MST
DTSTART:20171105T080000
END:STANDARD
END:VTIMEZONE
BEGIN:VEVENT
DTSTART;TZID=America/Denver:20171020T200000
DTEND;TZID=America/Denver:20171020T210000
DTSTAMP:20260422T203551
CREATED:20170929T214951Z
LAST-MODIFIED:20170929T214951Z
UID:4712-1508529600-1508533200@uvago.org
SUMMARY:Organ Fest X presented by Classical 89
DESCRIPTION:CLASSICAL 89 PRESENTING “ORGAN FEST X”\nFEATURING ORGANISTS FROM THE SALT LAKE TABERNACLE AND CATHEDRAL OF THE MADELEINE \nClassical 89 is pleased to present “Organ Fest X” in The Cathedral of the Madeleine on October 20. \nThe concert\, now in its tenth year\, features the five organists from the Salt Lake Tabernacle as well as the organist at The Cathedral of the Madeleine\, Gabriele Terrone. The concert is free and will be presented at The Cathedral of the Madeleine at 331 E. South Temple in Salt Lake City on Friday\, October 20 at 8:00 p.m. \nThis event is a gift to the community from Classical 89\, The Cathedral of the Madeleine\, and the organists. \nThe Classical 89 Organ Fest was conceived as a gala event involving all five members of the Tabernacle organ staff\, along with the organist for the Cathedral of the Madeleine.  For every year since the first offering in 2008\, those five organists from the Tabernacle have been the same five individuals: Andrew Unsworth\, Bonnie Goodliffe\, Clay Christiansen\, Linda Margetts\, and Richard Elliott.  With anticipated retirements in the Tabernacle organ staff during the coming year\, this will be the final year to feature this particular group of performers\, and the programming and commentary will reflect the special sentiments of the occasion. \nDonations in support of Classical 89’s weekly organ program\, Pipedreams (airs Sundays at 9pm)\, will be welcomed. \nInformation about “Organ Fest X” at www.classical89.org or contact Eric Glissmeyer\, Station Manager\, at 801-422-8787 or eric.glissmeyer@byu.edu.
URL:https://uvago.org/event/organ-fest-x-presented-by-classical-89/
LOCATION:Cathedral of the Madeleine\, 331 E. South Temple\, Salt Lake City\, UT\, United States
CATEGORIES:Community Events & Recitals
ATTACH;FMTTYPE=image/jpeg:https://uvago.org/wordpress/wp-content/uploads/2017/09/organfest.jpg
END:VEVENT
END:VCALENDAR