BEGIN:VCALENDAR
VERSION:2.0
PRODID:-//UVAGO - ECPv5.3.1.1//NONSGML v1.0//EN
CALSCALE:GREGORIAN
METHOD:PUBLISH
X-WR-CALNAME:UVAGO
X-ORIGINAL-URL:https://uvago.org
X-WR-CALDESC:Events for UVAGO
BEGIN:VTIMEZONE
TZID:America/Denver
BEGIN:DAYLIGHT
TZOFFSETFROM:-0700
TZOFFSETTO:-0600
TZNAME:MDT
DTSTART:20230312T090000
END:DAYLIGHT
BEGIN:STANDARD
TZOFFSETFROM:-0600
TZOFFSETTO:-0700
TZNAME:MST
DTSTART:20231105T080000
END:STANDARD
END:VTIMEZONE
BEGIN:VEVENT
DTSTART;TZID=America/Denver:20231022T190000
DTEND;TZID=America/Denver:20231022T200000
DTSTAMP:20260419T230218
CREATED:20231009T094444Z
LAST-MODIFIED:20231009T094444Z
UID:6925-1698001200-1698004800@uvago.org
SUMMARY:Organ Music from Notre Dame Cathedral - Recital by James Welch
DESCRIPTION:Organ Music from Notre Dame Cathedral\nEdgemont Stake Center\nOctober 22\, 2023   7 p.m. \nOn Sunday\, October 22\, at 7 p.m.\, at the Edgemont Stake Center\, 303 W 3700 N\, Provo (NOT Edgemont South or Edgemont North Stake)\, James Welch will present a concert of organ music from Notre Dame Cathedral in Paris.  Dr. Welch studied in Paris and has performed twice in concert at Notre Dame\, most recently in 2015\, before the disastrous fire at the cathedral. He will be performing the magnificent Symphony No. 2 of Louis Vierne\, the renowned blind organist who was organist at Notre Dame from 1900 until his death in 1937.  Tabernacle organist Alexander Schreiner studied with Vierne in 1925\, and James Welch studied with Schreiner in the 1970’s\, giving him a direct tutorial link to Vierne. \nAlso on the program will be movements from an organ symphony composed in 2009 by Utah composer Rulon Christiansen in the style of a Vierne symphony. This will be a rare opportunity to experience this timeless music\, right here in Provo. All are welcome at this concert.
URL:https://uvago.org/event/organ-music-from-notre-dame-cathedral-recital-by-james-welch/
LOCATION:Edgemont Stake Center\, 303 West 3700 North\, Provo\, UT
CATEGORIES:Community Events & Recitals
END:VEVENT
END:VCALENDAR