BEGIN:VCALENDAR
VERSION:2.0
PRODID:-//UVAGO - ECPv5.3.1.1//NONSGML v1.0//EN
CALSCALE:GREGORIAN
METHOD:PUBLISH
X-WR-CALNAME:UVAGO
X-ORIGINAL-URL:https://uvago.org
X-WR-CALDESC:Events for UVAGO
BEGIN:VTIMEZONE
TZID:America/Denver
BEGIN:DAYLIGHT
TZOFFSETFROM:-0700
TZOFFSETTO:-0600
TZNAME:MDT
DTSTART:20140309T090000
END:DAYLIGHT
BEGIN:STANDARD
TZOFFSETFROM:-0600
TZOFFSETTO:-0700
TZNAME:MST
DTSTART:20141102T080000
END:STANDARD
END:VTIMEZONE
BEGIN:VEVENT
DTSTART;TZID=America/Denver:20141122T193000
DTEND;TZID=America/Denver:20141122T193000
DTSTAMP:20260423T070146
CREATED:20141118T064453Z
LAST-MODIFIED:20141119T060711Z
UID:3169-1416684600-1416684600@uvago.org
SUMMARY:Organ Recital by Nora Hess
DESCRIPTION:Nora Hess is giving a recital at 7:30 pm on Saturday\, November 22 at the Multi-Stake Center in Provo (400 N 900 E). Please see the attached flier for details.
URL:https://uvago.org/event/organ-recital-by-nora-hess/
LOCATION:Multi-Stake Center\, 400 N 900E\, Provo\, UT
CATEGORIES:Community Events & Recitals,Student Recitals
ATTACH;FMTTYPE=image/jpeg:https://uvago.org/wordpress/wp-content/uploads/2014/11/2014-11-22-Nora-Hess.jpg
END:VEVENT
END:VCALENDAR