BEGIN:VCALENDAR
VERSION:2.0
PRODID:-//UVAGO - ECPv5.3.1.1//NONSGML v1.0//EN
CALSCALE:GREGORIAN
METHOD:PUBLISH
X-WR-CALNAME:UVAGO
X-ORIGINAL-URL:https://uvago.org
X-WR-CALDESC:Events for UVAGO
BEGIN:VTIMEZONE
TZID:America/Denver
BEGIN:DAYLIGHT
TZOFFSETFROM:-0700
TZOFFSETTO:-0600
TZNAME:MDT
DTSTART:20150308T090000
END:DAYLIGHT
BEGIN:STANDARD
TZOFFSETFROM:-0600
TZOFFSETTO:-0700
TZNAME:MST
DTSTART:20151101T080000
END:STANDARD
END:VTIMEZONE
BEGIN:VEVENT
DTSTART;TZID=America/Denver:20151211T120000
DTEND;TZID=America/Denver:20151211T130000
DTSTAMP:20260423T050725
CREATED:20151210T214818Z
LAST-MODIFIED:20151210T215104Z
UID:3894-1449835200-1449838800@uvago.org
SUMMARY:Organ Recital -- Jonathan Hellyer Jones of Cambridge\, U.K.
DESCRIPTION:News from Richard Elliott: \nJonathan Hellyer Jones of Cambridge\, U.K.\, will be giving a free 45-minute recital at 12:00 noon on Friday\, December 11th (tomorrow!) at St. Ambrose Catholic Church\, 1975 South 2300 East in Salt Lake City. \nJonathan Hellyer Jones is Fellow\, Director of Music\, Precentor and College Organist at Magdalene College\, Cambridge\, England. He was a chorister and undergraduate at St John’s College and for 25 years directed The Cambridge Baroque Camerata\, a group of professional musicians performing baroque music on period instruments. He has performed on radio and TV and has made several CDs.  He is in Utah with his wife\, Jane Hawking\, who is lecturing at Sundance this weekend on her autobiography\, “Travelling to Infinity: My Life with Stephen\,” which was the basis for the 2014 movie\, “The Theory of Everything.” \nMr. Jones’s program will include the following: \nTrumpet Tune and Air – Henry Purcell\nPrelude and Fugue in c (BWV 546) – J. S. Bach\nA voluntary for my Ladye Nevell – William Byrd\nToy: made at Poole Court – Thomas Tomkins\nRejoice in the Lord always – Anon 17th C (Redford?)\nPuer natus in Bethlehem and In dulci jubilo – Dietrich Buxtehude\nPsalm Prelude Set No 1 – Herbert Howells\nDans une douce joie\, Op 28 – Marcel Dupré\nValse lente – Oskar Merikanto\nThe Rose Garden – Edward Macdowell\n6th Versetto per il Gloria – Vincenzo Petrali \nQuestions may be directed to St. Ambrose Catholic Church at 801-485-5610.
URL:https://uvago.org/event/organ-recital-jonathan-hellyer-jones-of-cambridge-u-k/
LOCATION:St. Ambrose Catholic Church\, Salt Lake City\, UT
CATEGORIES:Community Events & Recitals
END:VEVENT
END:VCALENDAR