BEGIN:VCALENDAR
VERSION:2.0
PRODID:-//UVAGO - ECPv5.3.1.1//NONSGML v1.0//EN
CALSCALE:GREGORIAN
METHOD:PUBLISH
X-WR-CALNAME:UVAGO
X-ORIGINAL-URL:https://uvago.org
X-WR-CALDESC:Events for UVAGO
BEGIN:VTIMEZONE
TZID:America/Denver
BEGIN:DAYLIGHT
TZOFFSETFROM:-0700
TZOFFSETTO:-0600
TZNAME:MDT
DTSTART:20190310T090000
END:DAYLIGHT
BEGIN:STANDARD
TZOFFSETFROM:-0600
TZOFFSETTO:-0700
TZNAME:MST
DTSTART:20191103T080000
END:STANDARD
END:VTIMEZONE
BEGIN:VEVENT
DTSTART;TZID=America/Denver:20190216T120000
DTEND;TZID=America/Denver:20190216T130000
DTSTAMP:20260422T164429
CREATED:20181125T055903Z
LAST-MODIFIED:20190131T033944Z
UID:5103-1550318400-1550322000@uvago.org
SUMMARY:Performance Issues in the Organ Works of Felix Mendelssohn
DESCRIPTION:Neil Harmon presents “Performance Issues in the Organ Works of Felix Mendelssohn”\nSaturday\, February 16\, 2019\n12:00 pm. \n\nNeil will be discussing performance issues in the organ works of Mendelssohn; he will not be playing the organ during the workshop.\n\n\nThe presentation will be in a classroom in the basement of the Joseph F. Smith Building (JFSB) at BYU. The JFSB is the big square building west of the library with an inner courtyard\, curved glass facade on one side and children’s play area on the other side. The classroom B002 is on the west hallway opposite the spiral staircase.
URL:https://uvago.org/event/organ-works-of-felix-mendelssohn-performed-by-neil-harmon/
CATEGORIES:Community Events & Recitals
ATTACH;FMTTYPE=image/png:https://uvago.org/wordpress/wp-content/uploads/2018/11/2019-02-16-Harmon-Workshop-updated.png
END:VEVENT
END:VCALENDAR