BEGIN:VCALENDAR
VERSION:2.0
PRODID:-//UVAGO - ECPv5.3.1.1//NONSGML v1.0//EN
CALSCALE:GREGORIAN
METHOD:PUBLISH
X-WR-CALNAME:UVAGO
X-ORIGINAL-URL:https://uvago.org
X-WR-CALDESC:Events for UVAGO
BEGIN:VTIMEZONE
TZID:America/Denver
BEGIN:DAYLIGHT
TZOFFSETFROM:-0700
TZOFFSETTO:-0600
TZNAME:MDT
DTSTART:20140309T090000
END:DAYLIGHT
BEGIN:STANDARD
TZOFFSETFROM:-0600
TZOFFSETTO:-0700
TZNAME:MST
DTSTART:20141102T080000
END:STANDARD
END:VTIMEZONE
BEGIN:VEVENT
DTSTART;TZID=America/Denver:20141114T190000
DTEND;TZID=America/Denver:20141114T190000
DTSTAMP:20260423T091018
CREATED:20141021T014838Z
LAST-MODIFIED:20141104T114331Z
UID:2792-1415991600-1415991600@uvago.org
SUMMARY:Organ Travelogues with Walter Whipple and Sandra Mangum
DESCRIPTION:Organ Travelogues. In the spring of this year\, Sandra Mangum and Walter Whipple both had the opportunity to travel to Europe and visit historic organs while there. Sandi went to France\, while Walter went to Switzerland. Both had the rare chance to not only hear\, but play old organs on their trips. Sandi and Walter are excited to share their experiences\, and will help us learn more about French and Swiss organ history. \nWe will also have the chance to see and play the newly refurbished Wicks organ at the Orem First and Second Wards Chapel. \nFriday\, November 14\, 7:00 PM\, 600 South 400 East\, Orem.
URL:https://uvago.org/event/organs-in-switzerland-and-france/
LOCATION:Orem First and Second Wards Chapel\, 600 South 400 East\, Orem\, UT\, United States
END:VEVENT
END:VCALENDAR