BEGIN:VCALENDAR
VERSION:2.0
PRODID:-//UVAGO - ECPv5.3.1.1//NONSGML v1.0//EN
CALSCALE:GREGORIAN
METHOD:PUBLISH
X-WR-CALNAME:UVAGO
X-ORIGINAL-URL:https://uvago.org
X-WR-CALDESC:Events for UVAGO
BEGIN:VTIMEZONE
TZID:America/Denver
BEGIN:DAYLIGHT
TZOFFSETFROM:-0700
TZOFFSETTO:-0600
TZNAME:MDT
DTSTART:20180311T090000
END:DAYLIGHT
BEGIN:STANDARD
TZOFFSETFROM:-0600
TZOFFSETTO:-0700
TZNAME:MST
DTSTART:20181104T080000
END:STANDARD
END:VTIMEZONE
BEGIN:VEVENT
DTSTART;TZID=America/Denver:20181110T180000
DTEND;TZID=America/Denver:20181110T210000
DTSTAMP:20260422T164243
CREATED:20180920T220730Z
LAST-MODIFIED:20181030T081518Z
UID:4968-1541872800-1541883600@uvago.org
SUMMARY:Parley Belnap Tribute Recital
DESCRIPTION:Parley Belnap Tribute Recital: Award Parley honorary life membership to AGO; 5-min life sketch; recital by former students with their memories printed in the program.  Refreshments. \nFormer students of Parley Belnap are invited to submit brief written memory of the time they were his student and submit them to Lori Serr by November 4th.  \nNovember 10\, 2018\n6:00 pm \nAmerican Fork East Stake Center\n833 East 500 North\nAmerican Fork\, UT \n 
URL:https://uvago.org/event/parley-belnap-tribute-recital/
LOCATION:American Fork East Stake Center\, 833 East 500 North\, American Fork\, UT
CATEGORIES:Chapter Activities
ATTACH;FMTTYPE=image/jpeg:https://uvago.org/wordpress/wp-content/uploads/2015/09/parley-belnap.jpg
END:VEVENT
END:VCALENDAR