BEGIN:VCALENDAR
VERSION:2.0
PRODID:-//UVAGO - ECPv5.3.1.1//NONSGML v1.0//EN
CALSCALE:GREGORIAN
METHOD:PUBLISH
X-WR-CALNAME:UVAGO
X-ORIGINAL-URL:https://uvago.org
X-WR-CALDESC:Events for UVAGO
BEGIN:VTIMEZONE
TZID:America/Denver
BEGIN:DAYLIGHT
TZOFFSETFROM:-0700
TZOFFSETTO:-0600
TZNAME:MDT
DTSTART:20170312T090000
END:DAYLIGHT
BEGIN:STANDARD
TZOFFSETFROM:-0600
TZOFFSETTO:-0700
TZNAME:MST
DTSTART:20171105T080000
END:STANDARD
END:VTIMEZONE
BEGIN:VEVENT
DTSTART;TZID=America/Denver:20171215T193000
DTEND;TZID=America/Denver:20171215T210000
DTSTAMP:20260422T164423
CREATED:20171217T035051Z
LAST-MODIFIED:20171217T035051Z
UID:4794-1513366200-1513371600@uvago.org
SUMMARY:Peace on Earth--Carols for the World
DESCRIPTION:Dec 15-16 Peace on Earth–Carols for the World\, Salt Lake Chorale Artists\, St. Ambrose Catholic Church\, 7:30 pm
URL:https://uvago.org/event/peace-on-earth-carols-for-the-world/
LOCATION:St. Ambrose Catholic Church\, Salt Lake City\, UT
CATEGORIES:Community Events & Recitals
END:VEVENT
END:VCALENDAR