BEGIN:VCALENDAR
VERSION:2.0
PRODID:-//UVAGO - ECPv5.3.1.1//NONSGML v1.0//EN
CALSCALE:GREGORIAN
METHOD:PUBLISH
X-WR-CALNAME:UVAGO
X-ORIGINAL-URL:https://uvago.org
X-WR-CALDESC:Events for UVAGO
BEGIN:VTIMEZONE
TZID:America/Denver
BEGIN:DAYLIGHT
TZOFFSETFROM:-0700
TZOFFSETTO:-0600
TZNAME:MDT
DTSTART:20160313T090000
END:DAYLIGHT
BEGIN:STANDARD
TZOFFSETFROM:-0600
TZOFFSETTO:-0700
TZNAME:MST
DTSTART:20161106T080000
END:STANDARD
END:VTIMEZONE
BEGIN:VEVENT
DTSTART;TZID=America/Denver:20160725T080000
DTEND;TZID=America/Denver:20160731T170000
DTSTAMP:20260423T023017
CREATED:20150828T041738Z
LAST-MODIFIED:20160709T040012Z
UID:3720-1469433600-1469984400@uvago.org
SUMMARY:Pipe Organ Encounter (POE)
DESCRIPTION:Welcome to the Utah Valley and Salt Lake Pipe Organ Encounter 2016! Pipe Organ Encounters are the most successful outreach program sponsored by the AGO. \nThe Utah POE will offer teenagers a rewarding opportunity to learn more about the pipe organ and its construction\, receive instruction from experienced faculty\, participate in visits to hear and play outstanding instruments on Temple Square and prominent organs in local churches\, and the chance to meet and interact with peers who share a mutual interest in the “King of Instruments.” \n  \nPOE Events Open to the General Public\nWe are pleased to announce that there are thirteen students registered for the Pipe Organ Encounter (POE).These students have a wide range of backgrounds and experience. We are thrilled to have them join us for a week of organ!\n\nOur committee has been working hard to organize the POE\, and we have several events planned that are open to the general public listed below. However\, before attending an event\, be sure to check this website for changes or updates to the schedule or contact the Utah POE director\, Lori Serr\, at 801-489-8222 or email: lori.serr@icloud.com. \n\n\nTuesday\, July 26: Hymn Sing at St. Ambrose Catholic Church\, 2315 S Redondo Ave\, Salt Lake City\, 7:30 pm \n\n\nWednesday\, July 27: Master Class with Don Cook\, Madsen Recital Hall\, BYU\, 4:30-5:30 pm \n\n\nThursday\, July 28: Master Class with Clay Christiansen\, Joseph Smith Memorial Building\, 10:30-11:30 am \nFriday\, July 29: Recital by Tyler Boehmer (RCYO Winner)\, First United Methodist Church\, 203 South 200 East\, Salt Lake City\, 1:00-1:30 pm \nFriday\, July 29: POE Student Recital at St. Mark’s Episcopal Cathedral\, 231 East 100 South\, Salt Lake City\, 7:30-8:30 pm \n  \n\n\nStudent Registration\nThe Utah Pipe Organ Encounter will take place July 25-30 in Salt Lake City. The POE is for teens\, ages 13-18. All registrations will take place exclusively online at the AGO national website: https://www.agohq.org/education/poe/. \n\nQuestions? Please contact the Utah POE director\, Lori Serr\, at 801-489-8222 or email: lori.serr@icloud.com.\n\n\nPlease Note: Registration for the POE is done exclusively on the national AGO website\, but full payment is due at the time of registration by check only. Checks are made payable to Utah Valley American Guild of Organists\, with Utah POE written in the subject line. Please send your check with a copy of the payment form from the brochure or a copy of your registration receipt to: \n\nDorothy Jensen\nUtah Valley AGO POE Registrar\n535 E 2200 N\nProvo\, UT 84604 \nPOE Registration Fee: $525\nPOE Early Bird Registration Fee: $450\nEarly Bird Registration Deadline: April 1\, 2016\nFinal Registration Deadline: July 1\, 2016 \nClick here for the brochure. \nThe Traditional Pipe Organ Encounter… \n\nIs a 4-5 day event organized by a local AGO chapter under the sponsorship of the national organization. It introduces participants to the world of the pipe organ.\nIs a national program sponsored by the American Guild of Organists. Students are admitted to POEs on a first-come\, first-served basis\, regardless of attendance at prior POEs\, and regardless of state or country of residence\, as long as they meet the following eligibility guidelines: Students should be aged 13-18\, be interested in the pipe organ\, and have piano or organ proficiency ranging from intermediate to advanced.\nProvides an opportunity for students to have individual and group instruction in the basic rudiments of pipe organ technique and service playing.\nProvides a general overview of organ literature\, history\, pipe organ construction and design\, improvisation and other related topics.\nProvides an opportunity for participation in ecumenical worship\, so as to experience the role of the sacred musician.\nMost of all\, provides a unique opportunity for participants to meet and interact with peers who have similar interests.\n\n  \n 
URL:https://uvago.org/event/pipe-organ-encounter-poe/
CATEGORIES:Chapter Activities
END:VEVENT
END:VCALENDAR