BEGIN:VCALENDAR
VERSION:2.0
PRODID:-//UVAGO - ECPv5.3.1.1//NONSGML v1.0//EN
CALSCALE:GREGORIAN
METHOD:PUBLISH
X-WR-CALNAME:UVAGO
X-ORIGINAL-URL:https://uvago.org
X-WR-CALDESC:Events for UVAGO
BEGIN:VTIMEZONE
TZID:America/Denver
BEGIN:DAYLIGHT
TZOFFSETFROM:-0700
TZOFFSETTO:-0600
TZNAME:MDT
DTSTART:20160313T090000
END:DAYLIGHT
BEGIN:STANDARD
TZOFFSETFROM:-0600
TZOFFSETTO:-0700
TZNAME:MST
DTSTART:20161106T080000
END:STANDARD
END:VTIMEZONE
BEGIN:VEVENT
DTSTART;TZID=America/Denver:20160726T193000
DTEND;TZID=America/Denver:20160726T210000
DTSTAMP:20260423T010132
CREATED:20160709T195459Z
LAST-MODIFIED:20160709T195459Z
UID:4120-1469561400-1469566800@uvago.org
SUMMARY:POE event - Hymn Sing
DESCRIPTION:Hymn Sing\, Tuesday\, July 26\, St. Ambrose Catholic Church\, 2315 S Redondo Ave\, Salt Lake City\, 7:30 pm
URL:https://uvago.org/event/poe-event-hymn-sing/
LOCATION:St. Ambrose Catholic Church\, Salt Lake City\, UT
CATEGORIES:Community Events & Recitals
ATTACH;FMTTYPE=image/jpeg:https://uvago.org/wordpress/wp-content/uploads/2016/07/st-ambrose-organ-slc.jpg
END:VEVENT
END:VCALENDAR