BEGIN:VCALENDAR
VERSION:2.0
PRODID:-//UVAGO - ECPv5.3.1.1//NONSGML v1.0//EN
CALSCALE:GREGORIAN
METHOD:PUBLISH
X-WR-CALNAME:UVAGO
X-ORIGINAL-URL:https://uvago.org
X-WR-CALDESC:Events for UVAGO
BEGIN:VTIMEZONE
TZID:America/Denver
BEGIN:DAYLIGHT
TZOFFSETFROM:-0700
TZOFFSETTO:-0600
TZNAME:MDT
DTSTART:20160313T090000
END:DAYLIGHT
BEGIN:STANDARD
TZOFFSETFROM:-0600
TZOFFSETTO:-0700
TZNAME:MST
DTSTART:20161106T080000
END:STANDARD
END:VTIMEZONE
BEGIN:VEVENT
DTSTART;TZID=America/Denver:20160729T193000
DTEND;TZID=America/Denver:20160729T203000
DTSTAMP:20260423T011134
CREATED:20160709T202019Z
LAST-MODIFIED:20160709T202231Z
UID:4128-1469820600-1469824200@uvago.org
SUMMARY:POE event - POE Student Recital
DESCRIPTION:POE Student Recital\, Friday\, July 29\, St. Mark’s Episcopal Cathedral\, 231 E 100 S\, Salt Lake City\, 7:30-8:30 pm \n 
URL:https://uvago.org/event/poe-event-poe-student-recital/
LOCATION:St. Mark’s Episcopal Cathedral\, 231 E 100 S\, Salt Lake City\, UT\, United States
CATEGORIES:Community Events & Recitals
ATTACH;FMTTYPE=image/jpeg:https://uvago.org/wordpress/wp-content/uploads/2016/07/SaltLakeCity.StMarks.1967Holtkamp.Scofield01.jpg
END:VEVENT
END:VCALENDAR