BEGIN:VCALENDAR
VERSION:2.0
PRODID:-//UVAGO - ECPv5.3.1.1//NONSGML v1.0//EN
CALSCALE:GREGORIAN
METHOD:PUBLISH
X-WR-CALNAME:UVAGO
X-ORIGINAL-URL:https://uvago.org
X-WR-CALDESC:Events for UVAGO
BEGIN:VTIMEZONE
TZID:America/Denver
BEGIN:DAYLIGHT
TZOFFSETFROM:-0700
TZOFFSETTO:-0600
TZNAME:MDT
DTSTART:20160313T090000
END:DAYLIGHT
BEGIN:STANDARD
TZOFFSETFROM:-0600
TZOFFSETTO:-0700
TZNAME:MST
DTSTART:20161106T080000
END:STANDARD
END:VTIMEZONE
BEGIN:VEVENT
DTSTART;TZID=America/Denver:20160729T130000
DTEND;TZID=America/Denver:20160729T133000
DTSTAMP:20260423T011017
CREATED:20160709T201454Z
LAST-MODIFIED:20160709T201454Z
UID:4127-1469797200-1469799000@uvago.org
SUMMARY:POE event - Recital by Tyler Boehmer
DESCRIPTION:Recital by Tyler Boehmer (RCYO Winner)\, Friday\, July 29\, First United Methodist Church\, 203 S. 200 E.\, Salt Lake City\, 1:00-1:30 pm
URL:https://uvago.org/event/poe-event-recital-by-tyler-boehmer/
LOCATION:First United Methodist Church\, 203 South 200 East \, Salt Lake City\, UT\, United States
CATEGORIES:Community Events & Recitals
ATTACH;FMTTYPE=image/jpeg:https://uvago.org/wordpress/wp-content/uploads/2015/07/tyler-boehmer2.jpg
END:VEVENT
END:VCALENDAR