BEGIN:VCALENDAR
VERSION:2.0
PRODID:-//UVAGO - ECPv5.3.1.1//NONSGML v1.0//EN
CALSCALE:GREGORIAN
METHOD:PUBLISH
X-WR-CALNAME:UVAGO
X-ORIGINAL-URL:https://uvago.org
X-WR-CALDESC:Events for UVAGO
BEGIN:VTIMEZONE
TZID:America/Denver
BEGIN:DAYLIGHT
TZOFFSETFROM:-0700
TZOFFSETTO:-0600
TZNAME:MDT
DTSTART:20160313T090000
END:DAYLIGHT
BEGIN:STANDARD
TZOFFSETFROM:-0600
TZOFFSETTO:-0700
TZNAME:MST
DTSTART:20161106T080000
END:STANDARD
END:VTIMEZONE
BEGIN:VEVENT
DTSTART;TZID=America/Denver:20161211T180000
DTEND;TZID=America/Denver:20161211T200000
DTSTAMP:20260422T231234
CREATED:20161207T034026Z
LAST-MODIFIED:20161207T034026Z
UID:4369-1481479200-1481486400@uvago.org
SUMMARY:Provo Central Stake Christmas Concert
DESCRIPTION:Provo Central Stake Christmas Concert. Choir and organ performances with remarks by stake president. Carol Dean\, organ. 6:00 PM\, 1220 West 500 North\, Provo\, UT.
URL:https://uvago.org/event/provo-central-stake-christmas-concert/
LOCATION:Provo Central Stake Center\, 450 North 1220 West\, Provo\, UT\, United States
CATEGORIES:Community Events & Recitals
END:VEVENT
END:VCALENDAR