BEGIN:VCALENDAR
VERSION:2.0
PRODID:-//UVAGO - ECPv5.3.1.1//NONSGML v1.0//EN
CALSCALE:GREGORIAN
METHOD:PUBLISH
X-WR-CALNAME:UVAGO
X-ORIGINAL-URL:https://uvago.org
X-WR-CALDESC:Events for UVAGO
BEGIN:VTIMEZONE
TZID:America/Denver
BEGIN:DAYLIGHT
TZOFFSETFROM:-0700
TZOFFSETTO:-0600
TZNAME:MDT
DTSTART:20170312T090000
END:DAYLIGHT
BEGIN:STANDARD
TZOFFSETFROM:-0600
TZOFFSETTO:-0700
TZNAME:MST
DTSTART:20171105T080000
END:STANDARD
END:VTIMEZONE
BEGIN:VEVENT
DTSTART;TZID=America/Denver:20170430T170000
DTEND;TZID=America/Denver:20170430T200000
DTSTAMP:20260422T204208
CREATED:20170418T005741Z
LAST-MODIFIED:20170418T010111Z
UID:4546-1493571600-1493582400@uvago.org
SUMMARY:Quinten Knudsen Hymn Sing Along
DESCRIPTION:Announcing Shepherd of the Mountains Hymn Singalong April 30\, 2017  Park City \n  \nPlease share this information with your congregation and post it somewhere regarding the Hymn Sing Along at Shepherd of the Mountains Church\, 4051 UT-224\, Park City\, near the entrance to the Park City/Canyons Ski Resort. \nRefreshments are at 5 PM and the Hymn Sing begins at 6 PM.  Accompaniment will be provided by Guest Organist Quinten Knudsen\, a graduate of BYU with a Bachelor’s Degree in Music and with an emphasis on organ. \nMr. Knudsen will be playing Shepherd of the Mountains’ new “Virtual Hauptwerk Pipe Organ” the first of its kind found in any church in Utah.  Currently the organ can replicate over 10 world famous organs.  Mr. Knudsen is currently organist at Orem Community Church and Dean of the Utah Valley Chapter of the American Guild of Organists. \nPlease invite your friends and neighbors. \nFor further information\, please contact 435-649-6841
URL:https://uvago.org/event/quinten-knudsen-hymn-sing-along/
LOCATION:Shepherd of the Mountains Church\, 4051 UT-244\, Park City\, Utah 
CATEGORIES:Community Events & Recitals
ATTACH;FMTTYPE=image/jpeg:https://uvago.org/wordpress/wp-content/uploads/2014/08/quinten-organ.jpeg
END:VEVENT
END:VCALENDAR