BEGIN:VCALENDAR
VERSION:2.0
PRODID:-//UVAGO - ECPv5.3.1.1//NONSGML v1.0//EN
CALSCALE:GREGORIAN
METHOD:PUBLISH
X-WR-CALNAME:UVAGO
X-ORIGINAL-URL:https://uvago.org
X-WR-CALDESC:Events for UVAGO
BEGIN:VTIMEZONE
TZID:America/Denver
BEGIN:DAYLIGHT
TZOFFSETFROM:-0700
TZOFFSETTO:-0600
TZNAME:MDT
DTSTART:20150308T090000
END:DAYLIGHT
BEGIN:STANDARD
TZOFFSETFROM:-0600
TZOFFSETTO:-0700
TZNAME:MST
DTSTART:20151101T080000
END:STANDARD
END:VTIMEZONE
BEGIN:VEVENT
DTSTART;TZID=America/Denver:20150314T080000
DTEND;TZID=America/Denver:20150314T170000
DTSTAMP:20260423T072727
CREATED:20150108T052535Z
LAST-MODIFIED:20150108T052535Z
UID:3275-1426320000-1426352400@uvago.org
SUMMARY:RCYO Competition
DESCRIPTION:RCYO Competition\, St. Ambrose Catholic Church\, Salt Lake City \nTime TBA
URL:https://uvago.org/event/rcyo-competition/
LOCATION:St. Ambrose Catholic Church\, Salt Lake City\, UT
CATEGORIES:Competitions
END:VEVENT
END:VCALENDAR