BEGIN:VCALENDAR
VERSION:2.0
PRODID:-//UVAGO - ECPv5.3.1.1//NONSGML v1.0//EN
CALSCALE:GREGORIAN
METHOD:PUBLISH
X-WR-CALNAME:UVAGO
X-ORIGINAL-URL:https://uvago.org
X-WR-CALDESC:Events for UVAGO
BEGIN:VTIMEZONE
TZID:America/Denver
BEGIN:DAYLIGHT
TZOFFSETFROM:-0700
TZOFFSETTO:-0600
TZNAME:MDT
DTSTART:20180311T090000
END:DAYLIGHT
BEGIN:STANDARD
TZOFFSETFROM:-0600
TZOFFSETTO:-0700
TZNAME:MST
DTSTART:20181104T080000
END:STANDARD
END:VTIMEZONE
BEGIN:VEVENT
DTSTART;TZID=America/Denver:20180921T193000
DTEND;TZID=America/Denver:20180921T210000
DTSTAMP:20260422T143520
CREATED:20180904T231509Z
LAST-MODIFIED:20180904T231509Z
UID:4944-1537558200-1537563600@uvago.org
SUMMARY:Roy Darley Centennial Gala Concert
DESCRIPTION:Friday\, September 21\nSalt Lake Tabernacle\n7:30 p.m. \nTemple Square Performances 2018 Series presents a Gala Concert celebrating long-time LDS Tabernacle organist Roy Maughan Darley. Admission is limited to those age 8 and older unless otherwise noted. Tickets are not required. For more information call 801-240-3323 or visit the events page at lds.org.
URL:https://uvago.org/event/roy-darley-centennial-gala-concert/
LOCATION:Salt Lake Tabernacle\, Temple Square\, Salt Lake City\, UT
CATEGORIES:Community Events & Recitals
ATTACH;FMTTYPE=image/gif:https://uvago.org/wordpress/wp-content/uploads/2018/09/Roy-Darley.gif
END:VEVENT
END:VCALENDAR