BEGIN:VCALENDAR
VERSION:2.0
PRODID:-//UVAGO - ECPv5.3.1.1//NONSGML v1.0//EN
CALSCALE:GREGORIAN
METHOD:PUBLISH
X-WR-CALNAME:UVAGO
X-ORIGINAL-URL:https://uvago.org
X-WR-CALDESC:Events for UVAGO
BEGIN:VTIMEZONE
TZID:America/Denver
BEGIN:DAYLIGHT
TZOFFSETFROM:-0700
TZOFFSETTO:-0600
TZNAME:MDT
DTSTART:20140309T090000
END:DAYLIGHT
BEGIN:STANDARD
TZOFFSETFROM:-0600
TZOFFSETTO:-0700
TZNAME:MST
DTSTART:20141102T080000
END:STANDARD
END:VTIMEZONE
BEGIN:VEVENT
DTSTART;TZID=America/Denver:20141219T193000
DTEND;TZID=America/Denver:20141220T193000
DTSTAMP:20260423T091018
CREATED:20141104T121856Z
LAST-MODIFIED:20141104T121856Z
UID:2850-1419017400-1419103800@uvago.org
SUMMARY:Salt Lake Choral Artists\, “O Magnum Mysterium”
DESCRIPTION:Salt Lake Choral Artists\, “O Magnum Mysterium\,” St. Ambrose Catholic Church\, Salt Lake City\, 7:30 pm
URL:https://uvago.org/event/salt-lake-choral-artists-o-magnum-mysterium/
LOCATION:Salt Lake Choral Artists\, Salt Lake City\, UT
END:VEVENT
END:VCALENDAR