BEGIN:VCALENDAR
VERSION:2.0
PRODID:-//UVAGO - ECPv5.3.1.1//NONSGML v1.0//EN
CALSCALE:GREGORIAN
METHOD:PUBLISH
X-WR-CALNAME:UVAGO
X-ORIGINAL-URL:https://uvago.org
X-WR-CALDESC:Events for UVAGO
BEGIN:VTIMEZONE
TZID:America/Denver
BEGIN:DAYLIGHT
TZOFFSETFROM:-0700
TZOFFSETTO:-0600
TZNAME:MDT
DTSTART:20140309T090000
END:DAYLIGHT
BEGIN:STANDARD
TZOFFSETFROM:-0600
TZOFFSETTO:-0700
TZNAME:MST
DTSTART:20141102T080000
END:STANDARD
END:VTIMEZONE
BEGIN:VEVENT
DTSTART;TZID=America/Denver:20140906T083000
DTEND;TZID=America/Denver:20140906T083000
DTSTAMP:20260423T105457
CREATED:20140902T141604Z
LAST-MODIFIED:20140902T144250Z
UID:673-1409992200-1409992200@uvago.org
SUMMARY:Salt Lake City AGO Super Saturday
DESCRIPTION:University of Utah\, Libby Gardner Hall. \nJoin us for a “Super-Super” Saturday Sept. 5-6. The event begins Friday Sept. 5 at 7:30 PM with a recital by Gabriel Dessauer (organist and cantor at St. Bonifatius\, Weisbaden\, Germany) in the Tabernacle. This event is free and open to the public as part of the Temple Square Concert Series. \nThe workshops will be held Saturday morning (Sept. 6) beginning at 8:30am in Libby Gardner Hall at the University of Utah. AGO members of any chapter attend for $5; non-ago members for $10; high school and college students attend FREE (with valid ID). \nDr. Jon Skidmore will give a keynote address “The Freedom to Play!  Dr. Skidmore is a performance coach\, practicing psychologist\, educator\, researcher\, and musician. He has taught the Psychology of Music Performance at BYU for more than 20 years. \nAdditionally\, we will have great workshops for organists and enthusiasts of all levels. Our instructors\, Dr. Don Cook\, Teresa Clawson\, Scott Mills\, Alex Oldroyd\, Dr. Jon Skidmore\, Lynn Thomas\, including: “hands-on” beginning manual and pedal technique\, tonal design\, conquering stage fright\, hymn playing and registration\, and AGO education. There will be an opportunity for interested organists to receive a 15-20 minute private lesson on music they’d like help with. \nOnline registration is available here. There is an option to pay online with a credit card (preferred)\, or print the form and mail in a check. \nNote:  You may still attend the event without pre-registering by coming early enough to pay and pick up materials on the day of the event. However\, your desired class selections are not guaranteed if you do not pre-register. \nFor more information about this event\, or the AGO\, please contact Alex Oldroyd at dean@slcago.org
URL:https://uvago.org/event/salt-lake-city-ago-super-saturday/
END:VEVENT
END:VCALENDAR