BEGIN:VCALENDAR
VERSION:2.0
PRODID:-//UVAGO - ECPv5.3.1.1//NONSGML v1.0//EN
CALSCALE:GREGORIAN
METHOD:PUBLISH
X-WR-CALNAME:UVAGO
X-ORIGINAL-URL:https://uvago.org
X-WR-CALDESC:Events for UVAGO
BEGIN:VTIMEZONE
TZID:America/Denver
BEGIN:DAYLIGHT
TZOFFSETFROM:-0700
TZOFFSETTO:-0600
TZNAME:MDT
DTSTART:20150308T090000
END:DAYLIGHT
BEGIN:STANDARD
TZOFFSETFROM:-0600
TZOFFSETTO:-0700
TZNAME:MST
DTSTART:20151101T080000
END:STANDARD
END:VTIMEZONE
BEGIN:VEVENT
DTSTART;TZID=America/Denver:20150221T090000
DTEND;TZID=America/Denver:20150221T120000
DTSTAMP:20260423T092240
CREATED:20150120T050251Z
LAST-MODIFIED:20150124T094805Z
UID:3292-1424509200-1424520000@uvago.org
SUMMARY:Sing! Choirs of Angels:  A free workshop for choir directors and accompanists
DESCRIPTION: Download Flyer\n\nSing! Choirs of Angels\nA free workshop for choir directors and accompanists \n\nMagnify your calling\nInspire your choir\nElevate your accompaniment\nEnrich lives\n\nSaturday\, February 21\, 2015\, 9:00-Noon\n 735 East 800 South (North Chapel) [Note corrected address]\n Orem\, UT \nSpecial guest presenters: \nThe Utah Valley Children’s Choir\n Dr. Don Cook\n Dr. Ryan Eggett\n  \nClass Schedule\n  \n9:00 am\n\nWhat accompanists want from choir directors\, and what choir directors want from accompanists (Eggett and Cook)\nEvery director wants to bring the choir and accompanist together in creating a great performance. And every accompanist wants to do his or her part in making this happen. This is most likely when the director and accompanist understand one another’s job\, and have an excellent working relationship. This session will explore the dynamics of this relationship from both perspectives.\n\n10:00 am \n\nPreparing scores\, fingers\, and feet for choir accompaniment at the organ (Cook)\nFor the organist to accompany a choir successfully\, it’s all about preparation. What are some great ways to prepare the score? And if the score isn’t quite right for the organ\, how can I adapt it?\nChoral conducting and score preparation (Eggett)\nThis class will present ideas for choir directors of all abilities and choir types. Topics covered will include; (a) score preparation as an aid to skillful conducting and music making\, (b) clearly indicating entrances and cuts for singers and accompanists\, (c) helping the choir and accompanist with initial tempo and dynamic level gestures\, and (d) ideas for indicating tempo and dynamic changes throughout the music.\n\n11:00 am \n\nCombined class: Live Rehearsal/Demonstration (Cook\, Eggett)\nDr. Cook and Dr. Eggett will combine with the 180 voice “Utah Valley Children’s Choir” to demonstrate some of the techniques discussed in the individual classes. Participants will be free to ask questions and encouraged to analyze the conducting and accompanying throughout the rehearsal/performance. Suanne Bowcut\, co-conductor and administrator of the choir\, will also be demonstrating conducting ideas and techniques during this session.     
URL:https://uvago.org/event/sing-choirs-of-angels-a-free-workshop-for-choir-directors-and-accompanists/
LOCATION:North Chapel (corrected address)\, 735 East 800 South\, Orem\, UT
CATEGORIES:Chapter Activities
ATTACH;FMTTYPE=image/jpeg:https://uvago.org/wordpress/wp-content/uploads/2015/01/2015-February-Choir-Organ-Workshop-For-Web-final.jpg
END:VEVENT
END:VCALENDAR