BEGIN:VCALENDAR
VERSION:2.0
PRODID:-//UVAGO - ECPv5.3.1.1//NONSGML v1.0//EN
CALSCALE:GREGORIAN
METHOD:PUBLISH
X-WR-CALNAME:UVAGO
X-ORIGINAL-URL:https://uvago.org
X-WR-CALDESC:Events for UVAGO
BEGIN:VTIMEZONE
TZID:America/Denver
BEGIN:DAYLIGHT
TZOFFSETFROM:-0700
TZOFFSETTO:-0600
TZNAME:MDT
DTSTART:20160313T090000
END:DAYLIGHT
BEGIN:STANDARD
TZOFFSETFROM:-0600
TZOFFSETTO:-0700
TZNAME:MST
DTSTART:20161106T080000
END:STANDARD
END:VTIMEZONE
BEGIN:VEVENT
DTSTART;TZID=America/Denver:20161218T183000
DTEND;TZID=America/Denver:20161218T210000
DTSTAMP:20260423T005107
CREATED:20161207T034719Z
LAST-MODIFIED:20161207T034719Z
UID:4375-1482085800-1482094800@uvago.org
SUMMARY:Spanish Fork Stake Christmas Hymn Sing
DESCRIPTION:Spanish Fork Stake Christmas Hymn Sing. Choirs\, congregational hymns\, and narration. Paul Duncombe\, Quinten Knudsen\, Sheri Peterson\, Jack Stoneman\, organ. 6:30 PM prelude\, 7:00 hymn sing\, 1006 East 200 South\, Spanish Fork\, UT.
URL:https://uvago.org/event/spanish-fork-stake-christmas-hymn-sing-2/
CATEGORIES:Community Events & Recitals
END:VEVENT
END:VCALENDAR