BEGIN:VCALENDAR
VERSION:2.0
PRODID:-//UVAGO - ECPv5.3.1.1//NONSGML v1.0//EN
CALSCALE:GREGORIAN
METHOD:PUBLISH
X-WR-CALNAME:UVAGO
X-ORIGINAL-URL:https://uvago.org
X-WR-CALDESC:Events for UVAGO
BEGIN:VTIMEZONE
TZID:America/Denver
BEGIN:DAYLIGHT
TZOFFSETFROM:-0700
TZOFFSETTO:-0600
TZNAME:MDT
DTSTART:20140309T090000
END:DAYLIGHT
BEGIN:STANDARD
TZOFFSETFROM:-0600
TZOFFSETTO:-0700
TZNAME:MST
DTSTART:20141102T080000
END:STANDARD
END:VTIMEZONE
BEGIN:VEVENT
DTSTART;TZID=America/Denver:20141214T190000
DTEND;TZID=America/Denver:20141214T190000
DTSTAMP:20260423T071735
CREATED:20141122T074803Z
LAST-MODIFIED:20141122T074816Z
UID:3176-1418583600-1418583600@uvago.org
SUMMARY:Spanish Fork Stake Christmas Hymn Sing
DESCRIPTION:Sunday\, December 14\, 7:00 PM\nSpanish Fork Stake Center\, 1006 East 200 South
URL:https://uvago.org/event/spanish-fork-stake-christmas-hymn-sing/
LOCATION:Spanish Fork Stake Center\, 1006 East 200 South\, Spanish Fork\, UT
CATEGORIES:Community Events & Recitals
END:VEVENT
END:VCALENDAR