BEGIN:VCALENDAR
VERSION:2.0
PRODID:-//UVAGO - ECPv5.3.1.1//NONSGML v1.0//EN
CALSCALE:GREGORIAN
METHOD:PUBLISH
X-WR-CALNAME:UVAGO
X-ORIGINAL-URL:https://uvago.org
X-WR-CALDESC:Events for UVAGO
BEGIN:VTIMEZONE
TZID:America/Denver
BEGIN:DAYLIGHT
TZOFFSETFROM:-0700
TZOFFSETTO:-0600
TZNAME:MDT
DTSTART:20160313T090000
END:DAYLIGHT
BEGIN:STANDARD
TZOFFSETFROM:-0600
TZOFFSETTO:-0700
TZNAME:MST
DTSTART:20161106T080000
END:STANDARD
END:VTIMEZONE
BEGIN:VEVENT
DTSTART;TZID=America/Denver:20160423T080000
DTEND;TZID=America/Denver:20160423T150000
DTSTAMP:20260423T105059
CREATED:20150828T041207Z
LAST-MODIFIED:20160419T001907Z
UID:3718-1461398400-1461423600@uvago.org
SUMMARY:Super Saturday
DESCRIPTION:Super Saturday at BYU\nSaturday\, April 23\, 8:00 am -3:00 pm\nHarris Fine Arts Center BYU \nDownload the flyer here. \n2016 Super Saturday class schedule \n  \nKeynote Speaker: Brian Mathias \nDr. Mathias has taught in the School of Music at BYU since 2014. Before joining the faculty at BYU\, he was an adjunct faculty member at Washburn University in Topeka\, Kansas\, and Associate organist at Country Club Christian Church in Kansas City\, Missouri. He earned the Doctor of Musical Arts degree at the University of Kansas and his Bachelor and Master of Music degrees from Brigham Young University. Among Dr. Mathias’s recent organ solo performances are recitals at the Salt Lake Tabernacle\, LDS Conference Center and Washington National Cathedral. \nOrgan Training for Beginning\, Intermediate and Advanced Levels \n–20 Secrets of Successful Church Organists\n–Effective Practice Techniques\n–Basic Organ Registration\n–Basic Music Theory for Organists\n–Hymn Embellishments\n–That is Written for the Piano. What do I do?\n–Coping With Difficult Pedal Parts – 1985 LDS Hymnal\n–Teaching Gospel Messages Through Registration and Phrasing\n–Conquer Stage-Fright: Perform with Confidence\n–Resources for LDS Organists\n–Christmas Organ Repertoire\n–How to Tame Your “Monkey Mind”\n–Pedal Technique\n–Manual Technique\n–The Organ Must Sing – The Art of Playing the Text\n–Transforming Hymns from the Hymnal for the Choir\n–Recital – Dr. James Welch \nCheck-in 8:00 a.m. — Madsen Recital Hall South Foyer\nPrelude at 8:00 — Opening Hymn at 8:25 — Opening Session and Keynote at 8:30 \nClasses begin at 9:15 a.m. – Workshop ends at 3:00 p.m. \nSee www.uvago.org after April 1st for a complete class schedule and additional information
URL:https://uvago.org/event/super-saturday-2/
LOCATION:Harris Fine Arts Center\, Brigham Young Univeristy\, Provo
CATEGORIES:Chapter Activities
ATTACH;FMTTYPE=image/jpeg:https://uvago.org/wordpress/wp-content/uploads/2015/08/Brian-Mathias.jpg
END:VEVENT
END:VCALENDAR