BEGIN:VCALENDAR
VERSION:2.0
PRODID:-//UVAGO - ECPv5.3.1.1//NONSGML v1.0//EN
CALSCALE:GREGORIAN
METHOD:PUBLISH
X-WR-CALNAME:UVAGO
X-ORIGINAL-URL:https://uvago.org
X-WR-CALDESC:Events for UVAGO
BEGIN:VTIMEZONE
TZID:America/Denver
BEGIN:DAYLIGHT
TZOFFSETFROM:-0700
TZOFFSETTO:-0600
TZNAME:MDT
DTSTART:20180311T090000
END:DAYLIGHT
BEGIN:STANDARD
TZOFFSETFROM:-0600
TZOFFSETTO:-0700
TZNAME:MST
DTSTART:20181104T080000
END:STANDARD
END:VTIMEZONE
BEGIN:VEVENT
DTSTART;TZID=America/Denver:20180428T080000
DTEND;TZID=America/Denver:20180428T080000
DTSTAMP:20260422T164000
CREATED:20180106T025038Z
LAST-MODIFIED:20180301T222010Z
UID:4810-1524902400-1524902400@uvago.org
SUMMARY:Super Saturday Hiatus in 2018
DESCRIPTION:The BYU Organ faculty\, students\, and friends will be touring historic French organs on April 28\, the day that the Chapter would usually sponsor Super Saturday. The next Super Saturday will be in April 2019.
URL:https://uvago.org/event/super-saturday-4/
CATEGORIES:Chapter Activities
ATTACH;FMTTYPE=image/jpeg:https://uvago.org/wordpress/wp-content/uploads/2018/01/2018-03-01-organ.jpg
END:VEVENT
END:VCALENDAR