BEGIN:VCALENDAR
VERSION:2.0
PRODID:-//UVAGO - ECPv5.3.1.1//NONSGML v1.0//EN
CALSCALE:GREGORIAN
METHOD:PUBLISH
X-WR-CALNAME:UVAGO
X-ORIGINAL-URL:https://uvago.org
X-WR-CALDESC:Events for UVAGO
BEGIN:VTIMEZONE
TZID:America/Denver
BEGIN:DAYLIGHT
TZOFFSETFROM:-0700
TZOFFSETTO:-0600
TZNAME:MDT
DTSTART:20230312T090000
END:DAYLIGHT
BEGIN:STANDARD
TZOFFSETFROM:-0600
TZOFFSETTO:-0700
TZNAME:MST
DTSTART:20231105T080000
END:STANDARD
END:VTIMEZONE
BEGIN:VEVENT
DTSTART;TZID=America/Denver:20230818T193000
DTEND;TZID=America/Denver:20230818T203000
DTSTAMP:20260419T231920
CREATED:20230808T080401Z
LAST-MODIFIED:20230808T080401Z
UID:6890-1692387000-1692390600@uvago.org
SUMMARY:Tabernacle Organ Virtuoso Performance Series: Daniel Kerr
DESCRIPTION:The 2023 Tabernacle Organ Virtuoso Performance Series presents: \nAugust 18\, 2023: Daniel Kerr\, Chair of Music Department\, Professor of Organ\, BYU-Idaho\, 7:30 pm\, in the Tabernacle on Temple Square. \n  \n 
URL:https://uvago.org/event/tabernacle-organ-virtuoso-performance-series-daniel-kerr/
LOCATION:Salt Lake Tabernacle\, Salt Lake City\, UT\, United States
CATEGORIES:Community Events & Recitals
END:VEVENT
END:VCALENDAR