BEGIN:VCALENDAR
VERSION:2.0
PRODID:-//UVAGO - ECPv5.3.1.1//NONSGML v1.0//EN
CALSCALE:GREGORIAN
METHOD:PUBLISH
X-WR-CALNAME:UVAGO
X-ORIGINAL-URL:https://uvago.org
X-WR-CALDESC:Events for UVAGO
BEGIN:VTIMEZONE
TZID:America/Denver
BEGIN:DAYLIGHT
TZOFFSETFROM:-0700
TZOFFSETTO:-0600
TZNAME:MDT
DTSTART:20230312T090000
END:DAYLIGHT
BEGIN:STANDARD
TZOFFSETFROM:-0600
TZOFFSETTO:-0700
TZNAME:MST
DTSTART:20231105T080000
END:STANDARD
END:VTIMEZONE
BEGIN:VEVENT
DTSTART;TZID=America/Denver:20230203T193000
DTEND;TZID=America/Denver:20230203T203000
DTSTAMP:20260420T010914
CREATED:20230202T113118Z
LAST-MODIFIED:20230202T113118Z
UID:6616-1675452600-1675456200@uvago.org
SUMMARY:Tabernacle Organ Virtuoso Performance Series - Viktor Billa
DESCRIPTION:The Tabernacle Organists are pleased to announce that Ukrainian organist Viktor Billa will perform the next Tabernacle Organ Virtuoso Performance Series recital on Friday\, February 3\, at 7:30 PM. \nIn addition to works of Bach\, Bossi\, Dupré\, and Vierne\, his program will include compositions of Ukrainian composers Honcharenko and Slavicky.
URL:https://uvago.org/event/tabernacle-organ-virtuoso-performance-series-viktor-billa/
LOCATION:Temple Square Tabernacle\, Salt Lake City\, Utah
CATEGORIES:Community Events & Recitals
ATTACH;FMTTYPE=image/jpeg:https://uvago.org/wordpress/wp-content/uploads/2023/02/2023-02-03-virtuoso.jpg
END:VEVENT
END:VCALENDAR