BEGIN:VCALENDAR
VERSION:2.0
PRODID:-//UVAGO - ECPv5.3.1.1//NONSGML v1.0//EN
CALSCALE:GREGORIAN
METHOD:PUBLISH
X-WR-CALNAME:UVAGO
X-ORIGINAL-URL:https://uvago.org
X-WR-CALDESC:Events for UVAGO
BEGIN:VTIMEZONE
TZID:America/Denver
BEGIN:DAYLIGHT
TZOFFSETFROM:-0700
TZOFFSETTO:-0600
TZNAME:MDT
DTSTART:20220313T090000
END:DAYLIGHT
BEGIN:STANDARD
TZOFFSETFROM:-0600
TZOFFSETTO:-0700
TZNAME:MST
DTSTART:20221106T080000
END:STANDARD
END:VTIMEZONE
BEGIN:VEVENT
DTSTART;TZID=America/Denver:20220501T200000
DTEND;TZID=America/Denver:20220502T210000
DTSTAMP:20260419T090453
CREATED:20220302T074230Z
LAST-MODIFIED:20220302T074230Z
UID:6456-1651435200-1651525200@uvago.org
SUMMARY:The Complete Organ Works of César Franck - Eccles Organ Festival
DESCRIPTION:In celebration of the 200th birth anniversary of César Franck\, Cathedral of the Madeleine Organist Gabriele Terrone will perform the composer’s Complete Organ Works in two special recitals. on May 1 and May 22\, 2022 at 8:00 PM. \nEccles Festival
URL:https://uvago.org/event/the-complete-organ-works-of-cesar-franck-eccles-organ-festival/
LOCATION:Cathedral of the Madeleine\, 331 E. South Temple\, Salt Lake City\, UT\, United States
CATEGORIES:Community Events & Recitals
ATTACH;FMTTYPE=image/jpeg:https://uvago.org/wordpress/wp-content/uploads/2014/10/Gabriele-Terrone.jpg
END:VEVENT
END:VCALENDAR