BEGIN:VCALENDAR
VERSION:2.0
PRODID:-//UVAGO - ECPv5.3.1.1//NONSGML v1.0//EN
CALSCALE:GREGORIAN
METHOD:PUBLISH
X-WR-CALNAME:UVAGO
X-ORIGINAL-URL:https://uvago.org
X-WR-CALDESC:Events for UVAGO
BEGIN:VTIMEZONE
TZID:America/Denver
BEGIN:DAYLIGHT
TZOFFSETFROM:-0700
TZOFFSETTO:-0600
TZNAME:MDT
DTSTART:20170312T090000
END:DAYLIGHT
BEGIN:STANDARD
TZOFFSETFROM:-0600
TZOFFSETTO:-0700
TZNAME:MST
DTSTART:20171105T080000
END:STANDARD
END:VTIMEZONE
BEGIN:VEVENT
DTSTART;TZID=America/Denver:20171010T193000
DTEND;TZID=America/Denver:20171010T210000
DTSTAMP:20260422T185112
CREATED:20170920T044347Z
LAST-MODIFIED:20170920T044347Z
UID:4708-1507663800-1507669200@uvago.org
SUMMARY:Thomas Heywood Tabernacle Organ Concert
DESCRIPTION:Thomas Heywood\, one of Australia’s finest concert organists\, will present an organ recital in the Tabernacle on Temple Square—Tuesday evening\, October 10\, 2017\, at 7:30 p.m. \nHis program is centered around transcriptions of very famous pieces you will recognize. Some of the composers are Rossini\, Beethoven\, Elgar\, Rachmaninoff\, and Mascagni. \nFree and open to the public—children need to be 8 years of age or older.
URL:https://uvago.org/event/thomas-heywood-tabernacle-organ-concert/
LOCATION:Salt Lake Tabernacle\, Temple Square\, Salt Lake City\, UT
CATEGORIES:Community Events & Recitals
ATTACH;FMTTYPE=image/jpeg:https://uvago.org/wordpress/wp-content/uploads/2017/09/Thomas-Heywood.jpg
END:VEVENT
END:VCALENDAR