BEGIN:VCALENDAR
VERSION:2.0
PRODID:-//UVAGO - ECPv5.3.1.1//NONSGML v1.0//EN
CALSCALE:GREGORIAN
METHOD:PUBLISH
X-WR-CALNAME:UVAGO
X-ORIGINAL-URL:https://uvago.org
X-WR-CALDESC:Events for UVAGO
BEGIN:VTIMEZONE
TZID:America/Denver
BEGIN:DAYLIGHT
TZOFFSETFROM:-0700
TZOFFSETTO:-0600
TZNAME:MDT
DTSTART:20170312T090000
END:DAYLIGHT
BEGIN:STANDARD
TZOFFSETFROM:-0600
TZOFFSETTO:-0700
TZNAME:MST
DTSTART:20171105T080000
END:STANDARD
END:VTIMEZONE
BEGIN:VEVENT
DTSTART;TZID=America/Denver:20171008T200000
DTEND;TZID=America/Denver:20171008T210000
DTSTAMP:20260422T203310
CREATED:20170916T082347Z
LAST-MODIFIED:20170916T082347Z
UID:4680-1507492800-1507496400@uvago.org
SUMMARY:Thomas Ospital\, Eccles Recital
DESCRIPTION:October 8 – Thomas Ospital\, Eccles Recital\, Cathedral of the Madeleine\, 8:00 pm \nMr. Ospital currently serves as Titular Organist of the largest pipe organ in France; the Grand Organ at St. Eustache in Paris.  He took up the post in 2015 when he succeeded Jean Guillou.  Mr. Ospital is also the newly-appointed Organist in Residence at the Maison de la Radio (Radio France) where he presides over the new concert hall organ built by Grenzing. \n 
URL:https://uvago.org/event/thomas-ospital-eccles-recital/
LOCATION:Cathedral of the Madeleine\, 331 E. South Temple\, Salt Lake City\, UT\, United States
CATEGORIES:Community Events & Recitals
ATTACH;FMTTYPE=image/jpeg:https://uvago.org/wordpress/wp-content/uploads/2017/09/Thomas-Ospital.jpg
END:VEVENT
END:VCALENDAR