BEGIN:VCALENDAR
VERSION:2.0
PRODID:-//UVAGO - ECPv5.3.1.1//NONSGML v1.0//EN
CALSCALE:GREGORIAN
METHOD:PUBLISH
X-WR-CALNAME:UVAGO
X-ORIGINAL-URL:https://uvago.org
X-WR-CALDESC:Events for UVAGO
BEGIN:VTIMEZONE
TZID:America/Denver
BEGIN:DAYLIGHT
TZOFFSETFROM:-0700
TZOFFSETTO:-0600
TZNAME:MDT
DTSTART:20230312T090000
END:DAYLIGHT
BEGIN:STANDARD
TZOFFSETFROM:-0600
TZOFFSETTO:-0700
TZNAME:MST
DTSTART:20231105T080000
END:STANDARD
END:VTIMEZONE
BEGIN:VEVENT
DTSTART;TZID=America/Denver:20230916T080000
DTEND;TZID=America/Denver:20230916T140000
DTSTAMP:20260419T232011
CREATED:20230902T025541Z
LAST-MODIFIED:20230902T025541Z
UID:6915-1694851200-1694872800@uvago.org
SUMMARY:Traveling BYU Organ Workshop - Training Session
DESCRIPTION:Friday-Saturday\, September 15-16\nHosted by the Provo Edgemont South Stake\n3050 Mojave Lane\, Provo\, UT 84604 \nOrgan Concert – Friday\, September 15\, 7:00 to 8:00 pm\nOrgan Training – Saturday\, September 16\, 8:00 am to 2:00 pm with three tracks of classes: \n\nYOUTH – Designed especially for young people\, this track shows what the organ can do and gives everyone a chance to try it out\nHOW-TO – This track gives pianists some tools to begin building confidence at the organ\nBEYOND THE BASICS – This track offers ideas and inspiration to those who are already comfortable at the organ\n\nEvents are free and open to the public. All are welcome to attend!\nClasses will be taught by BYU Organ Faculty and other qualified instructors.\nPlease register by Sept. 12! \nBYU Utah Valley Organ Workshop Registration \n  \n  \n 
URL:https://uvago.org/event/traveling-byu-organ-workshop-training-session/
LOCATION:Provo Edgemont South Stake\, 3050 Mojave Lane\, Provo\, Utah\, 84604
CATEGORIES:Community Events & Recitals
END:VEVENT
END:VCALENDAR