BEGIN:VCALENDAR
VERSION:2.0
PRODID:-//UVAGO - ECPv5.3.1.1//NONSGML v1.0//EN
CALSCALE:GREGORIAN
METHOD:PUBLISH
X-WR-CALNAME:UVAGO
X-ORIGINAL-URL:https://uvago.org
X-WR-CALDESC:Events for UVAGO
BEGIN:VTIMEZONE
TZID:America/Denver
BEGIN:DAYLIGHT
TZOFFSETFROM:-0700
TZOFFSETTO:-0600
TZNAME:MDT
DTSTART:20150308T090000
END:DAYLIGHT
BEGIN:STANDARD
TZOFFSETFROM:-0600
TZOFFSETTO:-0700
TZNAME:MST
DTSTART:20151101T080000
END:STANDARD
END:VTIMEZONE
BEGIN:VEVENT
DTSTART;TZID=America/Denver:20150426T200000
DTEND;TZID=America/Denver:20150426T200000
DTSTAMP:20260423T051154
CREATED:20150203T045307Z
LAST-MODIFIED:20150203T045307Z
UID:3312-1430078400-1430078400@uvago.org
SUMMARY:Trumpet and Organ French duo Ghislain Leroy and Romain Leleu
DESCRIPTION:April 26 – Trumpet and Organ French duo Ghislain Leroy and Romain Leleu\, Cathedral of the Madeleine\, 8:00 pm
URL:https://uvago.org/event/trumpet-and-organ-french-duo-ghislain-leroy-and-romain-leleu/
LOCATION:Cathedral of the Madeleine\, 331 E. South Temple\, Salt Lake City\, UT\, United States
CATEGORIES:Community Events & Recitals
END:VEVENT
END:VCALENDAR