BEGIN:VCALENDAR
VERSION:2.0
PRODID:-//UVAGO - ECPv5.3.1.1//NONSGML v1.0//EN
CALSCALE:GREGORIAN
METHOD:PUBLISH
X-WR-CALNAME:UVAGO
X-ORIGINAL-URL:https://uvago.org
X-WR-CALDESC:Events for UVAGO
BEGIN:VTIMEZONE
TZID:America/Denver
BEGIN:DAYLIGHT
TZOFFSETFROM:-0700
TZOFFSETTO:-0600
TZNAME:MDT
DTSTART:20140309T090000
END:DAYLIGHT
BEGIN:STANDARD
TZOFFSETFROM:-0600
TZOFFSETTO:-0700
TZNAME:MST
DTSTART:20141102T080000
END:STANDARD
END:VTIMEZONE
BEGIN:VEVENT
DTSTART;TZID=America/Denver:20141208T180000
DTEND;TZID=America/Denver:20141208T180000
DTSTAMP:20260423T124952
CREATED:20141104T120459Z
LAST-MODIFIED:20141104T120459Z
UID:2844-1418061600-1418061600@uvago.org
SUMMARY:Utah Baroque Ensemble
DESCRIPTION:Orem City Public Library\, 58 N State St.\, Orem\, 6:00 pm
URL:https://uvago.org/event/utah-baroque-ensemble-3/
LOCATION:Orem City Public Library\, 58 N State St\, Orem\, UT
END:VEVENT
END:VCALENDAR